BEGIN:VCALENDAR
VERSION:2.0
PRODID:-//WiCyS - Women in Cybersecurity - ECPv6.15.20//NONSGML v1.0//EN
CALSCALE:GREGORIAN
METHOD:PUBLISH
X-ORIGINAL-URL:https://www.wicys.org
X-WR-CALDESC:Events for WiCyS - Women in Cybersecurity
REFRESH-INTERVAL;VALUE=DURATION:PT1H
X-Robots-Tag:noindex
X-PUBLISHED-TTL:PT1H
BEGIN:VTIMEZONE
TZID:America/Denver
BEGIN:DAYLIGHT
TZOFFSETFROM:-0700
TZOFFSETTO:-0600
TZNAME:MDT
DTSTART:20240310T090000
END:DAYLIGHT
BEGIN:STANDARD
TZOFFSETFROM:-0600
TZOFFSETTO:-0700
TZNAME:MST
DTSTART:20241103T080000
END:STANDARD
BEGIN:DAYLIGHT
TZOFFSETFROM:-0700
TZOFFSETTO:-0600
TZNAME:MDT
DTSTART:20250309T090000
END:DAYLIGHT
BEGIN:STANDARD
TZOFFSETFROM:-0600
TZOFFSETTO:-0700
TZNAME:MST
DTSTART:20251102T080000
END:STANDARD
BEGIN:DAYLIGHT
TZOFFSETFROM:-0700
TZOFFSETTO:-0600
TZNAME:MDT
DTSTART:20260308T090000
END:DAYLIGHT
BEGIN:STANDARD
TZOFFSETFROM:-0600
TZOFFSETTO:-0700
TZNAME:MST
DTSTART:20261101T080000
END:STANDARD
END:VTIMEZONE
BEGIN:VEVENT
DTSTART;TZID=America/Denver:20250827T173000
DTEND;TZID=America/Denver:20250827T190000
DTSTAMP:20260421T135035
CREATED:20250826T160944Z
LAST-MODIFIED:20250826T160944Z
UID:10002516-1756315800-1756321200@www.wicys.org
SUMMARY:WiCyS Phoenix Affiliate | Networking Happy Hour
DESCRIPTION:The WiCyS Phoenix Affiliate board is pleased to invite you to our next in-person networking event! Join us for a night of fun\, food\, and conversation with our fellow members and WiCyS allies. \n  \nSpace is limited\, so be sure to RSVP HERE to save your spot! \n 
URL:https://www.wicys.org/event/wicys-phoenix-affiliate-networking-happy-hour/
LOCATION:Hundred Mile Brewing Company – 690 N Scottsdale Rd\, Tempe AZ\, 690 N Scottsdale Rd\, Tempe AZ\, Tempe\, A\, United States
CATEGORIES:WiCyS Affiliate
ATTACH;FMTTYPE=image/png:https://www.wicys.org/wp-content/uploads/2025/08/Screenshot-2025-08-26-at-12.08.41-PM.png
ORGANIZER;CN="WiCyS - Phoenix AZ Affiliate":MAILTO:wicysphoenix@wicys.org
END:VEVENT
END:VCALENDAR