BEGIN:VCALENDAR
VERSION:2.0
PRODID:-//WiCyS - Women in Cybersecurity - ECPv6.15.20//NONSGML v1.0//EN
CALSCALE:GREGORIAN
METHOD:PUBLISH
X-WR-CALNAME:WiCyS - Women in Cybersecurity
X-ORIGINAL-URL:https://www.wicys.org
X-WR-CALDESC:Events for WiCyS - Women in Cybersecurity
REFRESH-INTERVAL;VALUE=DURATION:PT1H
X-Robots-Tag:noindex
X-PUBLISHED-TTL:PT1H
BEGIN:VTIMEZONE
TZID:UTC
BEGIN:STANDARD
TZOFFSETFROM:+0000
TZOFFSETTO:+0000
TZNAME:UTC
DTSTART:20240101T000000
END:STANDARD
END:VTIMEZONE
BEGIN:VEVENT
DTSTART;VALUE=DATE:20250605
DTEND;VALUE=DATE:20250606
DTSTAMP:20260423T063342
CREATED:20250604T145143Z
LAST-MODIFIED:20250604T145143Z
UID:10002334-1749081600-1749167999@www.wicys.org
SUMMARY:WiCyS DFW Affiliate | ElevateIT Dallas Technology Summit 2025
DESCRIPTION:Join our DFW Affiliate at ElevateIT Dallas Technology Summit 2025 to connect with WiCyS DFW affiliate members. Stop by our booth to meet our affiliate\, snag some swag\, and learn more. Do not miss the Women in Technology Roundtable “Catalysts of Change: Women Innovators Empowering Tomorrow\,” which will be moderated by leadership from the DFW Affiliate on June 5th at 2:00pm. \nThis engaging panel will explore the challenges and opportunities women face in the industry\, from navigating career growth to fostering inclusive workplaces. Panelists will share their experiences\, leadership insights\, and strategies for inspiring the next generation of women in technology. Attendees will leave with actionable takeaways on mentorship\, advocacy\, and the power of diverse perspectives in driving innovation. \n  \nRegister HERE
URL:https://www.wicys.org/event/wicys-dfw-affiliate-elevateit-dallas-technology-summit-2025/
LOCATION:Irving Convention Center\, 500 Las Colinas Blvd\, Irving\, TX\, 75036\, United States
CATEGORIES:WiCyS Affiliate
ATTACH;FMTTYPE=image/png:https://www.wicys.org/wp-content/uploads/2025/06/Screenshot-2025-06-04-at-10.50.25 AM.png
END:VEVENT
END:VCALENDAR