BEGIN:VCALENDAR
VERSION:2.0
PRODID:-//WiCyS - Women in Cybersecurity - ECPv6.15.20//NONSGML v1.0//EN
CALSCALE:GREGORIAN
METHOD:PUBLISH
X-ORIGINAL-URL:https://www.wicys.org
X-WR-CALDESC:Events for WiCyS - Women in Cybersecurity
REFRESH-INTERVAL;VALUE=DURATION:PT1H
X-Robots-Tag:noindex
X-PUBLISHED-TTL:PT1H
BEGIN:VTIMEZONE
TZID:Asia/Karachi
BEGIN:STANDARD
TZOFFSETFROM:+0500
TZOFFSETTO:+0500
TZNAME:PKT
DTSTART:20230101T000000
END:STANDARD
END:VTIMEZONE
BEGIN:VEVENT
DTSTART;TZID=Asia/Karachi:20240822T180000
DTEND;TZID=Asia/Karachi:20240822T193000
DTSTAMP:20260424T042034
CREATED:20240819T135251Z
LAST-MODIFIED:20240821T164143Z
UID:10001862-1724349600-1724355000@www.wicys.org
SUMMARY:WiCyS Mid-Atlantic and WiCyS PGCC | CTF Fundamentals Session 1: Kick Off and Signup Info Session
DESCRIPTION:Building upon the feedback we received at our CTF101 in April\, we’re pleased to announce our first ever ⚡CTF Fundamentals ⚡series! In collaboration with our sponsor Mantech\, Inc and our sister affiliate WiCyS PGCC\, we’ll be hosting 4 “learn and grow” sessions starting in September. These sessions are tailored to equip you with foundational coding basics to prepare for our CTF 201 occurring in October\, during Cybersecurity Awareness Month! \n  \nRegister for this FREE event HERE
URL:https://www.wicys.org/event/wicys-mid-atlantic-and-wicys-pgcc-ctf-fundamentals-session-1-kick-off-and-signup-info-session/
LOCATION:Center for Advanced Technology\, 301 Largo Road\, Largo\, MD\, 20774\, United States
CATEGORIES:WiCyS Affiliate
ATTACH;FMTTYPE=image/png:https://www.wicys.org/wp-content/uploads/2024/08/WiCyS-Mid-Atlantic-and-WiCyS-PGCC-_-CTF-Fundamentals-Session-1.png
ORGANIZER;CN="WiCyS Mid-Atlantic Affiliate":MAILTO:info@wicysmidatlantic.org
END:VEVENT
END:VCALENDAR