BEGIN:VCALENDAR
VERSION:2.0
PRODID:-//WiCyS - Women in Cybersecurity - ECPv6.15.20//NONSGML v1.0//EN
CALSCALE:GREGORIAN
METHOD:PUBLISH
X-WR-CALNAME:WiCyS - Women in Cybersecurity
X-ORIGINAL-URL:https://www.wicys.org
X-WR-CALDESC:Events for WiCyS - Women in Cybersecurity
REFRESH-INTERVAL;VALUE=DURATION:PT1H
X-Robots-Tag:noindex
X-PUBLISHED-TTL:PT1H
BEGIN:VTIMEZONE
TZID:UTC
BEGIN:STANDARD
TZOFFSETFROM:+0000
TZOFFSETTO:+0000
TZNAME:UTC
DTSTART:20230101T000000
END:STANDARD
END:VTIMEZONE
BEGIN:VTIMEZONE
TZID:America/Chicago
BEGIN:DAYLIGHT
TZOFFSETFROM:-0600
TZOFFSETTO:-0500
TZNAME:CDT
DTSTART:20220313T080000
END:DAYLIGHT
BEGIN:STANDARD
TZOFFSETFROM:-0500
TZOFFSETTO:-0600
TZNAME:CST
DTSTART:20221106T070000
END:STANDARD
BEGIN:DAYLIGHT
TZOFFSETFROM:-0600
TZOFFSETTO:-0500
TZNAME:CDT
DTSTART:20230312T080000
END:DAYLIGHT
BEGIN:STANDARD
TZOFFSETFROM:-0500
TZOFFSETTO:-0600
TZNAME:CST
DTSTART:20231105T070000
END:STANDARD
BEGIN:DAYLIGHT
TZOFFSETFROM:-0600
TZOFFSETTO:-0500
TZNAME:CDT
DTSTART:20240310T080000
END:DAYLIGHT
BEGIN:STANDARD
TZOFFSETFROM:-0500
TZOFFSETTO:-0600
TZNAME:CST
DTSTART:20241103T070000
END:STANDARD
END:VTIMEZONE
BEGIN:VEVENT
DTSTART;VALUE=DATE:20251106
DTEND;VALUE=DATE:20251107
DTSTAMP:20260422T221602
CREATED:20251013T193226Z
LAST-MODIFIED:20251013T193226Z
UID:10002607-1762387200-1762473599@www.wicys.org
SUMMARY:WiCyS Houston Affiliate | Cybersecurity Summit Houston
DESCRIPTION:Join our Houston Affiliate at the 7th annual Houston Cybersecurity Summit to connect with WiCyS members. Please stop by our booth to meet our affiliate\, snag some swag\, and learn more! \nThe 7th Annual Houston Cybersecurity Summit connects cybersecurity executives and seasoned practitioners responsible for protecting their companies’ critical infrastructures with innovative solution providers and renowned information security experts. Admission offers attendees access to all interactive panels\, discussions\, catered breakfast\, lunch and cocktail reception. \n  \nScheduled Interactive Panel Discussions:\n\nWomen in Cyber\nIncident Response and Threat Mitigation\nEmerging Threats and Security Trends\n\n  \nRegister HERE and use code CSS25-WiCySHOU for a exclusive discount.
URL:https://www.wicys.org/event/wicys-houston-affiliate-cybersecurity-summit-houston/
LOCATION:The Westin Houston\, Memorial City\, 945 Gessner Rd\, Houston\, TX\, 77024\, United States
CATEGORIES:WiCyS Affiliate
ATTACH;FMTTYPE=image/jpeg:https://www.wicys.org/wp-content/uploads/2025/10/Houston_2025.jpeg
END:VEVENT
BEGIN:VEVENT
DTSTART;VALUE=DATE:20250515
DTEND;VALUE=DATE:20250516
DTSTAMP:20260422T221602
CREATED:20250423T185342Z
LAST-MODIFIED:20250423T185342Z
UID:10002120-1747267200-1747353599@www.wicys.org
SUMMARY:WiCyS Houston Affiliate | SecureWorld Houston
DESCRIPTION:Join our Houston Affiliate at SecureWorld Houston to connect with WiCyS members. Please stop by our booth to meet our affiliate\, snag some swag\, and learn more! \nJoin your fellow InfoSec professionals for high-quality training and collaboration\, whether virtual or in-person. Earn 6-18 CPE credits through 20-40 educational elements\, learning from nationally recognized industry leaders. Attend featured keynotes\, panel discussions\, breakout sessions\, and networking opportunities. Evaluate top vendor solutions and meet with local chapters of security associations. Learn more about SecureWorld Houston HERE \nScheduled Speakers: \n\nBrittany Opeloye: Director\, IT/OT Security\, ConocoPhillips\nRoya Gordon: Deputy CISO\, ENGIE North America\nOctavio Herrera: Chairman of the Board\, Oil and Natural Energy ISAC\nAnd MORE!\n\n  \nRegistration Info: \nUse this LINK and the codes below for discounted or FREE conference pass! \nConference Pass: $75 discount- WICYSSWC2 \nPLUS Course Pass: $100 discount- WICYSSWP2 \nOpen Session Complementary pass- WICYSSWO2
URL:https://www.wicys.org/event/wicys-houston-affiliate-secureworld-houston-2/
LOCATION:Norris Conference Center – Houston CityCentre\, 816 Town and Country Blvd\, Houston\, TX\, 77024\, United States
CATEGORIES:WiCyS Affiliate
ATTACH;FMTTYPE=image/png:https://www.wicys.org/wp-content/uploads/2025/04/WiCyS-Houston-Affiliate-at-SecureWorld_.png
END:VEVENT
BEGIN:VEVENT
DTSTART;VALUE=DATE:20241028
DTEND;VALUE=DATE:20241030
DTSTAMP:20260422T221602
CREATED:20241024T192828Z
LAST-MODIFIED:20241024T192828Z
UID:10001935-1730073600-1730246399@www.wicys.org
SUMMARY:WiCyS Houston Affilaite | OT Cybersecurity
DESCRIPTION:Join our Houston Affiliate at OT Cybersecurity in Houston to connect with WiCyS members. Please stop by our booth to meet our affiliate\, snag some swag\, and learn more\n\n\n\n\n\n\n\n\n\n\nThe alarming rise in OT cyber-attacks on America’s critical infrastructure has highlighted the urgent need to prioritize investment in defending against OT-specific cyber threats.  Oil and Gas\, Utilities\, and other critical infrastructure companies must reassess their approach to cybersecurity and mitigate attacks across converged systems. Investing in advanced threat detection\, employee training to raise cyber risk awareness\, and incident response capability has become more urgent than ever before. \n  \nPlease register HERE and use code WCYBER25 for 25% off the conference passes.
URL:https://www.wicys.org/event/wicys-houston-affilaite-ot-cybersecurity/
LOCATION:Norris Conference Center – Houston CityCentre\, 816 Town and Country Blvd\, Houston\, TX\, 77024\, United States
CATEGORIES:WiCyS
ATTACH;FMTTYPE=image/png:https://www.wicys.org/wp-content/uploads/2024/10/WiCyS-Houston-at-OT-Cybersecurity.png
END:VEVENT
BEGIN:VEVENT
DTSTART;TZID=UTC:20240404T070000
DTEND;TZID=UTC:20240404T170000
DTSTAMP:20260422T221602
CREATED:20240131T023949Z
LAST-MODIFIED:20240131T023949Z
UID:10001460-1712214000-1712250000@www.wicys.org
SUMMARY:WiCyS Houston Affiliate | SecureWorld Houston
DESCRIPTION:Join our Houston Affiliate at SecureWorld Houston to connect with WiCyS members. Stop by our booth to meet our affiliate\, snag some swag\, and learn more about WiCyS. \nSecureWorld events and programming foster Growth\, Access\, and Excellence among cybersecurity professionals. Conference theme for 2024: Legacies Untold: Revealing Cybersecurity’s Hidden Figures. \nSecureWorld is… the stepping stone to grow in your abilities and career path – SecureWorld is… access to the knowledge and solutions you need\, in the place you live – SecureWorld is… a unique experience with excellence in both speakers and content \nSchedule Speakers:  \n\nDavid Sledge: Director of Cybersecurity\, Avelo Airlines\nMichael Gregg: CISO\, State of North Dakota\nViolet Sullivan: Adjunct Professor\, Baylor School of Law; AVP\, Cyber Solutions\, Crum & Forster\nAnd MORE!\n\n  \nRegistration Info: \nUse this LINK and the codes below for discounted or FREE conference pass! \nConference Pass: $75 discount- WICYSSWC2 \nPLUS Course Pass: $100 discount- WICYSSWP2 \nOpen Session Complementary pass- WICYSSWO2
URL:https://www.wicys.org/event/wicys-houston-affiliate-secureworld-houston/
LOCATION:Norris Conference Center – Houston CityCentre\, 816 Town and Country Blvd\, Houston\, TX\, 77024\, United States
CATEGORIES:WiCyS Affiliate
ATTACH;FMTTYPE=image/png:https://www.wicys.org/wp-content/uploads/2024/01/WiCyS-Houston-Affiliate-at-SecureWorld.png
END:VEVENT
BEGIN:VEVENT
DTSTART;TZID=America/Chicago:20230624T130000
DTEND;TZID=America/Chicago:20230624T160000
DTSTAMP:20260422T221602
CREATED:20230705T164907Z
LAST-MODIFIED:20230705T164907Z
UID:10000677-1687611600-1687622400@www.wicys.org
SUMMARY:WiCyS Houston Affiliate | A Day with DD and B&B
DESCRIPTION:A fun-filled event playing Backdoor & Breaches and a talk from Catharina “Dd” Budiharto. \nLearn more HERE.
URL:https://www.wicys.org/event/wicys-houston-affiliate-a-day-with-dd-and-bb/
ATTACH;FMTTYPE=image/png:https://www.wicys.org/wp-content/uploads/2023/02/WiCyS-Houston-Affiliate-Logo-on-Shield.png
END:VEVENT
END:VCALENDAR