BEGIN:VCALENDAR
VERSION:2.0
PRODID:-//WiCyS - Women in Cybersecurity - ECPv6.15.20//NONSGML v1.0//EN
CALSCALE:GREGORIAN
METHOD:PUBLISH
X-ORIGINAL-URL:https://www.wicys.org
X-WR-CALDESC:Events for WiCyS - Women in Cybersecurity
REFRESH-INTERVAL;VALUE=DURATION:PT1H
X-Robots-Tag:noindex
X-PUBLISHED-TTL:PT1H
BEGIN:VTIMEZONE
TZID:UTC
BEGIN:STANDARD
TZOFFSETFROM:+0000
TZOFFSETTO:+0000
TZNAME:UTC
DTSTART:20230101T000000
END:STANDARD
END:VTIMEZONE
BEGIN:VTIMEZONE
TZID:America/New_York
BEGIN:DAYLIGHT
TZOFFSETFROM:-0500
TZOFFSETTO:-0400
TZNAME:EDT
DTSTART:20230312T070000
END:DAYLIGHT
BEGIN:STANDARD
TZOFFSETFROM:-0400
TZOFFSETTO:-0500
TZNAME:EST
DTSTART:20231105T060000
END:STANDARD
BEGIN:DAYLIGHT
TZOFFSETFROM:-0500
TZOFFSETTO:-0400
TZNAME:EDT
DTSTART:20240310T070000
END:DAYLIGHT
BEGIN:STANDARD
TZOFFSETFROM:-0400
TZOFFSETTO:-0500
TZNAME:EST
DTSTART:20241103T060000
END:STANDARD
BEGIN:DAYLIGHT
TZOFFSETFROM:-0500
TZOFFSETTO:-0400
TZNAME:EDT
DTSTART:20250309T070000
END:DAYLIGHT
BEGIN:STANDARD
TZOFFSETFROM:-0400
TZOFFSETTO:-0500
TZNAME:EST
DTSTART:20251102T060000
END:STANDARD
END:VTIMEZONE
BEGIN:VEVENT
DTSTART;VALUE=DATE:20250814
DTEND;VALUE=DATE:20250815
DTSTAMP:20260422T222704
CREATED:20250609T184526Z
LAST-MODIFIED:20250616T192336Z
UID:10002356-1755129600-1755215999@www.wicys.org
SUMMARY:WiCyS Kansas City Affiliate | INTERFACE Kansas City
DESCRIPTION:Join our Kansas City Affiliate at INTERFACE Kansas City to connect with WiCyS members. Please stop by our booth to meet our affiliate\, snag some swag\, and learn more! \nIT Infrastructure is constantly changing\, bringing more new challenges with it every day. From ransomware and the latest security threats to emerging developments in AI and the need for increased bandwidth and storage\, it’s nearly impossible to keep up to date. INTERFACE is designed to help. At the conference\, there is a combination of Best-in-Breed hardware and software solutions\, along with local experts and organizations to help educate\, advise and connect you to resources that can help you meet your goals. \nCovering Information Security\, Infrastructure\, Cloud\, Disaster Recovery\, Communications\, and more\, you’ll find presentations\, panel discussions\, and exhibitors covering a variety of topics\, as well as the latest innovations and best practices. \n  \nRegister HERE
URL:https://www.wicys.org/event/wicys-kansas-city-affiliate-interface-kansas-city/
LOCATION:Overland Park Convention Center\, 6000 College Blvd\, Overland Park\, KS\, 66211\, United States
CATEGORIES:WiCyS Affiliate
ATTACH;FMTTYPE=image/png:https://www.wicys.org/wp-content/uploads/2025/06/WiCyS-Interface-Kansas-City.png
ORGANIZER;CN="WiCyS - Kansas City":MAILTO:WiCySKansasCity@wicys.org
END:VEVENT
BEGIN:VEVENT
DTSTART;VALUE=DATE:20250522
DTEND;VALUE=DATE:20250523
DTSTAMP:20260422T222704
CREATED:20250609T185640Z
LAST-MODIFIED:20250609T185640Z
UID:10002358-1747872000-1747958399@www.wicys.org
SUMMARY:WiCyS Kansas City Affiliate | FutureCon Kansas City
DESCRIPTION:Join our Kansas City Affiliate at FutureCon Kansas City to connect with WiCyS members. Please stop by our booth to meet our affiliate\, snag some swag\, and learn more! \nHear from esteemed speakers while gaining up to 10 CPE credits. Immerse yourself in the latest cybersecurity developments to gain valuable insights in today’s dynamic threat landscape. Learn how to effectively manage risk\, demo the newest technologies from an array of different sponsors\, and network with your local community. Don’t miss the special ceremony recognizing honorary attendees receiving an Award of Excellence! \n  \nRegister HERE
URL:https://www.wicys.org/event/wicys-kansas-city-affiliate-futurecon-kansas-city/
LOCATION:Marriott Kansas City\, 10800 Metcalf Avenue\, Overland Park\, K\, 66210\, United States
CATEGORIES:WiCyS Affiliate
ATTACH;FMTTYPE=image/jpeg:https://www.wicys.org/wp-content/uploads/2025/06/future-con.jpg
ORGANIZER;CN="WiCyS - Kansas City":MAILTO:WiCySKansasCity@wicys.org
END:VEVENT
BEGIN:VEVENT
DTSTART;VALUE=DATE:20250508
DTEND;VALUE=DATE:20250509
DTSTAMP:20260422T222704
CREATED:20250609T185250Z
LAST-MODIFIED:20250609T185250Z
UID:10002357-1746662400-1746748799@www.wicys.org
SUMMARY:WiCyS Kansas City Affiliate | SecureWorld Kansas City 2025
DESCRIPTION:Join our Kansas City Affiliate at SecureWorld Kansas City to connect with WiCyS members. Please stop by our booth to meet our affiliate\, snag some swag\, and learn more! \nJoin your fellow InfoSec professionals for high-quality training and collaboration\, whether virtual or in-person. Earn 6-18 CPE credits through 20-40 educational elements\, learning from nationally recognized industry leaders. Attend featured keynotes\, panel discussions\, breakout sessions\, and networking opportunities. Evaluate top vendor solutions and meet with local chapters of security associations. Learn more about SecureWorld Kansas City HERE \nScheduled Speakers: \n\nJohn Godfrey: CISO\, State of Kansas\nMonica Cole-Rowe: CISO\, National Association of Insurance Commissioners (NAIC)\nBritney Kennedy: Global BISO & Director of Business Partnership\, Cardinal Health\nAnd MORE!\n\n  \nRegistration Info: \nUse this LINK and the codes below for discounted or FREE conference pass! \nConference Pass: $75 discount- WICYSSWC2 \nPLUS Course Pass: $100 discount- WICYSSWP2 \nOpen Session Complementary pass- WICYSSWO2
URL:https://www.wicys.org/event/wicys-kansas-city-affiliate-secureworld-kansas-city-2025/
LOCATION:Overland Park Convention Center\, 6000 College Blvd\, Overland Park\, KS\, 66211\, United States
CATEGORIES:WiCyS Affiliate
ATTACH;FMTTYPE=image/jpeg:https://www.wicys.org/wp-content/uploads/2025/06/secure-world-2025.jpg
ORGANIZER;CN="WiCyS - Kansas City":MAILTO:WiCySKansasCity@wicys.org
END:VEVENT
BEGIN:VEVENT
DTSTART;TZID=UTC:20240611T180000
DTEND;TZID=UTC:20240611T193000
DTSTAMP:20260422T222704
CREATED:20240610T152047Z
LAST-MODIFIED:20240610T152047Z
UID:10001803-1718128800-1718134200@www.wicys.org
SUMMARY:WiCyS Kansas City Affiliate | Historic Ribbon Cutting
DESCRIPTION:Join WiCyS Kansas City and be part of this historic moment as we cut the ribbon and embark on a journey to empower women in cybersecurity in the greater Kansas City metroplex area. The honorable Mayor Q. Lucas will cut the ribbon to symbolize his commitment to building an inclusive and diverse cybersecurity and technology pipeline. \nDistinguished Guests: Meet KC Mayor Quinton Lucas\, cybersecurity experts\, private company executives\, academia heads\, community partners\, and dignitaries. Their presence underscores the importance of gender diversity in cybersecurity. \nEvent Highlights: \nOfficial Launch: Join us as we officially launch WiCyS KC Metroplex with international reach to Kansas City. This milestone event celebrates our commitment to empowering women in the exciting world of cybersecurity. \nResource Hub: Explore a wealth of resources\, including mentoring programs\, educational materials\, and networking channels. WiCyS provides the tools you need to excel in your cybersecurity career. \nNetworking Opportunities: Connect with like-minded professionals\, exchange ideas\, and build valuable relationships. Whether you’re a seasoned expert or just starting out\, this event offers a supportive community. \nGlobal Impact: WiCyS extends beyond local boundaries. Learn how our initiatives resonate globally and contribute to a more inclusive and resilient cybersecurity community. \n*Beverages and hors d’oeuvres will be served. \n  \nRegister for this free event HERE \n 
URL:https://www.wicys.org/event/wicys-kansas-city-affiliate-historic-ribbon-cutting/
LOCATION:UMKC Pierson Auditorium\, 5000 Holmes Street\, Kansas City\, MO\, 64110\, United States
CATEGORIES:WiCyS Affiliate
ATTACH;FMTTYPE=image/png:https://www.wicys.org/wp-content/uploads/2024/06/WiCyS-art-poster-ribbon-invite-21.png
ORGANIZER;CN="WiCyS - Kansas City":MAILTO:WiCySKansasCity@wicys.org
END:VEVENT
BEGIN:VEVENT
DTSTART;TZID=America/New_York:20240606T080000
DTEND;TZID=America/New_York:20240606T080000
DTSTAMP:20260422T222704
CREATED:20240517T162258Z
LAST-MODIFIED:20240522T171118Z
UID:10001783-1717660800-1717660800@www.wicys.org
SUMMARY:WiCyS Kansas City Affiliate | FutureCon Kansas City CyberSecurity Event
DESCRIPTION:Join our Kansas City Affiliate at FutureCon to connect with WiCyS members. Stop by our booth to meet our affiliate\, snag some swag\, and learn more about WiCyS.Join FutureCon CyberSecurity Events in Kansas City. \nThe conference will feature a keynote session and panel discussion from local cybersecurity experts. Attendees will have the opportunity to network with peers and gain insights on best practices for mitigating the risk of cyber-attacks. This event is tailored to security professionals and IT leaders wanting to effectively secure their company. Don’t miss out on this opportunity to enhance your cybersecurity knowledge and network with industry leaders. Register now to secure your spot at the Kansas City FutureCon Events Cybersecurity Conference. \nScheduled Keynote Speaker\nJohn Godfrey\nChief Information Security Officer \nScheduled CISO Panel\nKurt Manske– Senior Director for Strategy Privacy and RiskC | Coalfire \nAlexandra Munk- Senior Product Manager | Microsoft \nJohn Godfrey – Chief Information Security Officer | Kansas Information Security Office \nNick Gicinto- Chief Information Security Officer | William Jewell College \n  \nFUN PRIZES + TRAINING + LUNCH + NETWORKING + HAPPY HOUR\nQualify for up to 10 CPE CREDIT HOURS \n* Must be a currently employed IT professional with a valid business email address. Not valid for independent contractors\, vendors\, marketing\, sales employees\, or students. You will be notified if your complimentary pass was not confirmed. \nRegister HERE and use code WICYSKC for a complimentary pass for WiCyS members.
URL:https://www.wicys.org/event/wicys-kansas-city-affiliate-futurecon-kansas-city-cybersecurity-event/
LOCATION:The Venue in Leawood\, 4800 W 135th St Suite 108\, Leawood\, KS\, 66224\, United States
CATEGORIES:WiCyS Affiliate
ATTACH;FMTTYPE=image/png:https://www.wicys.org/wp-content/uploads/2024/05/WiCyS-Kanas-City-at-FutureCon-Kansas-City.png
ORGANIZER;CN="WiCyS - Kansas City":MAILTO:WiCySKansasCity@wicys.org
END:VEVENT
BEGIN:VEVENT
DTSTART;VALUE=DATE:20240606
DTEND;VALUE=DATE:20240607
DTSTAMP:20260422T222704
CREATED:20240405T163314Z
LAST-MODIFIED:20240405T163429Z
UID:10001733-1717632000-1717718399@www.wicys.org
SUMMARY:WiCyS Kansas City Affiliate | INTERFACE 2024
DESCRIPTION:Join our Kansas City Affiliate at INTERFACE 2024 to connect with WiCyS members. Stop by our booth to meet our affiliate\, snag some swag\, and learn more about WiCyS. \nIT Infrastructure is constantly changing\, bringing more new challenges with it every day. From ransomware and the latest security threats to emerging developments in AI and the need for increased bandwidth and storage\, it’s nearly impossible to keep up to date. Our conference is designed to help. We’ve assembled a combination of Best-in-Breed hardware and software solutions\, along with local experts and organizations to help educate\, advise and connect you to resources that can help you meet your goals. \nCovering Information Security\, Infrastructure\, Cloud\, Disaster Recovery\, Communications\, and more\, you’ll find presentations\, panel discussions\, and exhibitors covering a variety of topics\, as well as the latest innovations and best practices. \nRegister for the event HERE
URL:https://www.wicys.org/event/wicys-kansas-city-affiliate-interface-2024/
LOCATION:Overland Park Convention Center\, 6000 College Blvd\, Overland Park\, KS\, 66211\, United States
CATEGORIES:WiCyS Affiliate
ATTACH;FMTTYPE=image/png:https://www.wicys.org/wp-content/uploads/2024/04/WiCyS-Kansas-City-at-INTERFACE-Kansas-City-Conference.png
ORGANIZER;CN="WiCyS - Kansas City":MAILTO:WiCySKansasCity@wicys.org
END:VEVENT
END:VCALENDAR