BEGIN:VCALENDAR
VERSION:2.0
PRODID:-//WiCyS - Women in Cybersecurity - ECPv6.15.20//NONSGML v1.0//EN
CALSCALE:GREGORIAN
METHOD:PUBLISH
X-ORIGINAL-URL:https://www.wicys.org
X-WR-CALDESC:Events for WiCyS - Women in Cybersecurity
REFRESH-INTERVAL;VALUE=DURATION:PT1H
X-Robots-Tag:noindex
X-PUBLISHED-TTL:PT1H
BEGIN:VTIMEZONE
TZID:UTC
BEGIN:STANDARD
TZOFFSETFROM:+0000
TZOFFSETTO:+0000
TZNAME:UTC
DTSTART:20230101T000000
END:STANDARD
END:VTIMEZONE
BEGIN:VEVENT
DTSTART;TZID=UTC:20240523T180000
DTEND;TZID=UTC:20240523T193000
DTSTAMP:20260423T025653
CREATED:20240513T153011Z
LAST-MODIFIED:20240513T153011Z
UID:10001771-1716487200-1716492600@www.wicys.org
SUMMARY:WiCyS North Carolina | AI Governance
DESCRIPTION:Danielle Strimbu will be presenting on AI Governance. The session will highlight key governance strategies to ensure AI systems are ethical\, transparent\, and accountable\, safeguarding against risks while promoting innovation. \nDanielle Strimbu’s career is a rich tapestry of experiences across various industries\, including technology\, healthcare\, education\, and retail. Her career is underpinned by a blend of technical and business acumen\, relationship-building expertise\, and a relentless pursuit of knowledge. A concern for how family medical devices and general technology were being protected\, created a desire to learn new skills to protect our digital world. She achieved her M.S. in Information Systems Security in August 2023. Danielle is a trusted advisor able to work with cross-functional teams and external parties to align security functions and foster accountability to support risk management and governance programs. \nRegister HERE
URL:https://www.wicys.org/event/wicys-north-carolina-ai-governance/
LOCATION:Virtual
CATEGORIES:WiCyS Affiliate
ATTACH;FMTTYPE=image/png:https://www.wicys.org/wp-content/uploads/2024/05/Screenshot-2024-05-08-at-10.08.08.png
ORGANIZER;CN="WiCyS North Carolina":MAILTO:WiCySNorthCarolina@wicys.org
END:VEVENT
END:VCALENDAR