BEGIN:VCALENDAR
VERSION:2.0
PRODID:-//WiCyS - Women in Cybersecurity - ECPv6.15.20//NONSGML v1.0//EN
CALSCALE:GREGORIAN
METHOD:PUBLISH
X-ORIGINAL-URL:https://www.wicys.org
X-WR-CALDESC:Events for WiCyS - Women in Cybersecurity
REFRESH-INTERVAL;VALUE=DURATION:PT1H
X-Robots-Tag:noindex
X-PUBLISHED-TTL:PT1H
BEGIN:VTIMEZONE
TZID:Africa/Freetown
BEGIN:STANDARD
TZOFFSETFROM:+0000
TZOFFSETTO:+0000
TZNAME:GMT
DTSTART:20250101T000000
END:STANDARD
END:VTIMEZONE
BEGIN:VEVENT
DTSTART;TZID=Africa/Freetown:20260502T160000
DTEND;TZID=Africa/Freetown:20260502T170000
DTSTAMP:20260425T123405
CREATED:20260424T174311Z
LAST-MODIFIED:20260424T175535Z
UID:10003168-1777737600-1777741200@www.wicys.org
SUMMARY:WiCyS Sierra Leone Affiliate | Building Cyber-Aware Communities
DESCRIPTION:Join the WiCyS Sierra Leone Affiliate for the Building Cyber-Aware Communities virtual session. \n  \nLearn more about the event and register HERE
URL:https://www.wicys.org/event/wicys-sierra-leone-affiliate-building-cyber-aware-communities/
LOCATION:Virtual
CATEGORIES:Webinar,WiCyS Affiliate
ATTACH;FMTTYPE=image/jpeg:https://www.wicys.org/wp-content/uploads/2026/04/09bd77dc-f860-418f-80a7-ce08431c0c3c-e1777052450168.jpeg
END:VEVENT
END:VCALENDAR