BEGIN:VCALENDAR
VERSION:2.0
PRODID:-//WiCyS - Women in Cybersecurity - ECPv6.15.20//NONSGML v1.0//EN
CALSCALE:GREGORIAN
METHOD:PUBLISH
X-ORIGINAL-URL:https://www.wicys.org
X-WR-CALDESC:Events for WiCyS - Women in Cybersecurity
REFRESH-INTERVAL;VALUE=DURATION:PT1H
X-Robots-Tag:noindex
X-PUBLISHED-TTL:PT1H
BEGIN:VTIMEZONE
TZID:UTC
BEGIN:STANDARD
TZOFFSETFROM:+0000
TZOFFSETTO:+0000
TZNAME:UTC
DTSTART:20230101T000000
END:STANDARD
END:VTIMEZONE
BEGIN:VTIMEZONE
TZID:America/Chicago
BEGIN:DAYLIGHT
TZOFFSETFROM:-0600
TZOFFSETTO:-0500
TZNAME:CDT
DTSTART:20250309T080000
END:DAYLIGHT
BEGIN:STANDARD
TZOFFSETFROM:-0500
TZOFFSETTO:-0600
TZNAME:CST
DTSTART:20251102T070000
END:STANDARD
BEGIN:DAYLIGHT
TZOFFSETFROM:-0600
TZOFFSETTO:-0500
TZNAME:CDT
DTSTART:20260308T080000
END:DAYLIGHT
BEGIN:STANDARD
TZOFFSETFROM:-0500
TZOFFSETTO:-0600
TZNAME:CST
DTSTART:20261101T070000
END:STANDARD
BEGIN:DAYLIGHT
TZOFFSETFROM:-0600
TZOFFSETTO:-0500
TZNAME:CDT
DTSTART:20270314T080000
END:DAYLIGHT
BEGIN:STANDARD
TZOFFSETFROM:-0500
TZOFFSETTO:-0600
TZNAME:CST
DTSTART:20271107T070000
END:STANDARD
END:VTIMEZONE
BEGIN:VEVENT
DTSTART;TZID=UTC:20260414T113000
DTEND;TZID=UTC:20260414T133000
DTSTAMP:20260422T131441
CREATED:20260323T151701Z
LAST-MODIFIED:20260331T182715Z
UID:10003105-1776166200-1776173400@www.wicys.org
SUMMARY:WiCyS St. Louis Metro Affiliate | STL Techweek Luncheon
DESCRIPTION:A Unique Networking and Educational Opportunity with the STL Community Supporting Women in Technology\, Risk\, and Cybersecurity. WiCyS St. Louis is excited to invite you to a special private event during STL Techweek! This is a great chance to connect with your peers and expand your professional network. \nThe event will feature a complimentary lunch\, an insightful panel discussion\, and dedicated networking time with fellow industry leaders and ISACA SheLeads Tech and Women in Cybersecurity (WiCyS) members. \n  \nDon’t miss this opportunity to engage and learn! Register HERE \n  \nParking is available around T-REX in the nearby lot between 10th and 11th street\, in the Marriott parking garage across from the building\, or at the street meters along Washington Avenue. Please be aware that all parking requires payment.
URL:https://www.wicys.org/event/wicys-st-louis-metro-affiliate-stl-techweek-luncheon/
LOCATION:T-REX Downtown STL — 911 Washington Avenue  Enterprise Room – 5th Floor St. Louis\, MO 63101
CATEGORIES:WiCyS Affiliate
ATTACH;FMTTYPE=image/png:https://www.wicys.org/wp-content/uploads/2026/03/Screenshot-2026-03-31-at-2.25.36-PM.png
ORGANIZER;CN="WiCyS - St. Louis":MAILTO:WiCySStLouis@wicys.org
END:VEVENT
BEGIN:VEVENT
DTSTART;VALUE=DATE:20260414
DTEND;VALUE=DATE:20260415
DTSTAMP:20260422T131441
CREATED:20260323T152313Z
LAST-MODIFIED:20260331T182602Z
UID:10003106-1776124800-1776211199@www.wicys.org
SUMMARY:WiCyS St. Louis Metro Affiliate | AI Summit Expo for TechSTL Tech Week
DESCRIPTION:Join WiCyS St Louis Metro Affiliate at the AI Summit Expo for TechSTL Tech Week to connect with WiCyS members. Please stop by our booth to meet us\, snag some swag\, and learn more! \nTechSTL is the St. Louis metro’s tech council\, focused on proactively growing the St. Louis tech ecosystem. Launched in 2022 under the leadership of the St. Louis Development Corporation with support from a U.S. Economic Development Administration grant. Tech Week brings together collaborators for a full week of events. \n  \nRegister HERE
URL:https://www.wicys.org/event/wicys-st-louis-metro-affiliate-ai-summit-expo-for-techstl-tech-week/
LOCATION:America Center Convention Complex\, 701 Convention Plaza\, Saint Louis\, MO\, 63101\, United States
CATEGORIES:WiCyS Affiliate
ATTACH;FMTTYPE=image/png:https://www.wicys.org/wp-content/uploads/2026/03/Screenshot-2026-03-31-at-2.25.36-PM.png
ORGANIZER;CN="WiCyS - St. Louis":MAILTO:WiCySStLouis@wicys.org
END:VEVENT
BEGIN:VEVENT
DTSTART;TZID=America/Chicago:20260326T180000
DTEND;TZID=America/Chicago:20260326T193000
DTSTAMP:20260422T131441
CREATED:20260311T210409Z
LAST-MODIFIED:20260311T210409Z
UID:10003098-1774548000-1774553400@www.wicys.org
SUMMARY:WiCyS St. Louis Affiliate | Meeting
DESCRIPTION:Join WiCyS St. Louis Affiliate March Meeting! Women in Cybersecurity (WiCyS) St. Louis Metropolitan invites you to our March Affiliate Meeting! Come meet fellow cybersecurity professionals\, learn more about Women in Cybersecurity (WiCyS) St. Louis Metropolitan\, and discover ways to get involved in the growing cybersecurity community here in St. Louis. \nFree & Open to the Public – Register HERE
URL:https://www.wicys.org/event/wicys-st-louis-affiliate-meeting/
LOCATION:RubinBrown\, Plaza C 7676 Forsyth Blvd.\, St. Louis\, MO\, 63105\, United States
CATEGORIES:WiCyS Affiliate
ATTACH;FMTTYPE=image/png:https://www.wicys.org/wp-content/uploads/2026/03/WiCyS-STL-March-Meeting-1-e1773262997636.png
ORGANIZER;CN="WiCyS - St. Louis":MAILTO:WiCySStLouis@wicys.org
END:VEVENT
BEGIN:VEVENT
DTSTART;VALUE=DATE:20260226
DTEND;VALUE=DATE:20260227
DTSTAMP:20260422T131441
CREATED:20260206T195659Z
LAST-MODIFIED:20260206T195659Z
UID:10002902-1772064000-1772150399@www.wicys.org
SUMMARY:WiCyS St. Louis Affiliate | FutureCon St. Louis
DESCRIPTION:Join WiCyS St. Louis for the FutureCon Cybersecurity Event to connect with WiCyS members! Please stop by our booth to meet our affiliate\, snag some swag\, and learn more. Hear from the esteemed speakers while gaining up to 10 CPE credits. Immerse yourself in the latest cybersecurity developments to gain valuable insights in today’s dynamic threat landscape. \nLearn how to effectively manage risk\, demo the newest technologies from an array of different sponsors\, and network with your local community. Don’t miss the special ceremony recognizing the honorary attendees receiving an Award of Excellence! \nRegister HERE with code STLWICYS for a free pass
URL:https://www.wicys.org/event/wicys-st-louis-affiliate-futurecon-st-louis/
LOCATION:Hilton St. Louis Frontenac\, 1335 South Lindbergh Blvd.\, St Louis\, MO\, 63131\, United States
ATTACH;FMTTYPE=image/png:https://www.wicys.org/wp-content/uploads/2026/02/WiCyS-St.-Louis-1.png
ORGANIZER;CN="WiCyS - St. Louis":MAILTO:WiCySStLouis@wicys.org
END:VEVENT
BEGIN:VEVENT
DTSTART;TZID=UTC:20251112T180000
DTEND;TZID=UTC:20251112T203000
DTSTAMP:20260422T131441
CREATED:20251113T200444Z
LAST-MODIFIED:20251113T200444Z
UID:10002662-1762970400-1762979400@www.wicys.org
SUMMARY:WiCyS St. Louis Affiliate | Cyber Connections Community Night!
DESCRIPTION:Join our WiCyS St. Louis Affiliate for a night of in-person cyber connections and community building! Ready to ignite your cybersecurity journey\, grow your network\, and have some fun? Join us at RubinBrown for an energizing evening with the WiCyS St. Louis Metro Affiliate! Whether you’re a seasoned professional\, a student\, or just curious about cybersecurity\, this event is designed for you.\n\n\n\nWhy Attend? \n\nDiscover WiCyS: Learn how Women in Cybersecurity (WiCyS) can help advance your career\, connect you with a vibrant community\, and provide access to cutting-edge resources. Find out how to get involved with our St. Louis affiliate and unlock new opportunities at every stage of your cybersecurity journey.\nShape Our Future: We value your voice! Share your ideas for local resources and events you’d love to see in 2026. Help us build a thriving\, supportive community tailored to your needs.\nConnect & Collaborate: Meet fellow WiCyS members\, industry professionals\, and passionate newcomers. This is your chance to expand your network\, exchange insights\, and spark new collaborations.\nEnjoy Food & Drinks: We’ll have refreshments on hand—please RSVP so we can plan for everyone!\n\nWho Should Attend? \n\nWiCyS Affiliate Members\nCybersecurity professionals interested in learning more about WiCyS\n\n  \nDon’t miss out on this exciting opportunity to grow your cyber community\, share your ideas\, and be part of something bigger in St. Louis. Register HERE
URL:https://www.wicys.org/event/wicys-st-louis-affiliate-cyber-connections-community-night/
LOCATION:Rubibrown\, 7676 Forsyth Blvd.\, Suite 2100\, Saint Louis\, MO\, 63105\, United States
CATEGORIES:WiCyS Affiliate
ATTACH;FMTTYPE=image/png:https://www.wicys.org/wp-content/uploads/2025/11/Screenshot-2025-11-13-at-3.03.18-PM.png
ORGANIZER;CN="WiCyS - St. Louis":MAILTO:WiCySStLouis@wicys.org
END:VEVENT
BEGIN:VEVENT
DTSTART;VALUE=DATE:20250625
DTEND;VALUE=DATE:20250626
DTSTAMP:20260422T131441
CREATED:20250528T153809Z
LAST-MODIFIED:20250528T153809Z
UID:10002262-1750809600-1750895999@www.wicys.org
SUMMARY:WiCyS St. Louis Metro Affiliate | Cybersecurity Summit St. Louis
DESCRIPTION:Join our St. Louis Metro Affiliate at the 4th Annual St. Louis Cyber Security Summit to connect with WiCyS members. Please stop by our booth to meet our affiliate\, snag some swag\, and learn more! \nThe 4th Annual St. Louis Cybersecurity Summit connects cybersecurity executives and seasoned practitioners responsible for protecting their companies’ critical infrastructures with innovative solution providers and renowned information security experts. Admission offers attendees access to all interactive panels\, discussions\, catered breakfast\, lunch and cocktail reception. \nScheduled Interactive Panel Discussions \n\nIncident Response and Threat Mitigation\nEmerging Threats and Security Trends\nTechnology Selection\, Use\, Integration & Orchestration\n\n  \nRegister HERE and use code CSS25-WICYSSTL for a exclusive discount.
URL:https://www.wicys.org/event/wicys-st-louis-metro-affiliate-cybersecurity-summit-st-louis/
LOCATION:Marriott St. Louis Grand\, 800 Washington Ave\, St. Louis\, MO\, 63101\, United States
CATEGORIES:WiCyS Affiliate
ATTACH;FMTTYPE=image/png:https://www.wicys.org/wp-content/uploads/2025/05/WiCyS-at-Cybersecurity-Summit-St.-Louis.png
ORGANIZER;CN="WiCyS - St. Louis":MAILTO:WiCySStLouis@wicys.org
END:VEVENT
BEGIN:VEVENT
DTSTART;VALUE=DATE:20240926
DTEND;VALUE=DATE:20240927
DTSTAMP:20260422T131441
CREATED:20240625T180024Z
LAST-MODIFIED:20240924T143027Z
UID:10001818-1727308800-1727395199@www.wicys.org
SUMMARY:WiCyS St Louis Affilaite | SecureWorld St. Louis
DESCRIPTION:Join our St. Louis Affiliate at SecureWord St. Louis to connect with WiCyS members. Stop by our booth to meet our affiliate\, snag some swag\, and learn more. \nSecureWorld events and programming foster Growth\, Access\, and Excellence among cybersecurity professionals. The conference theme for 2024 is Legacies Untold: Revealing Cybersecurity’s Hidden Figures. \nSecureWorld is… the stepping stone to grow in your abilities and career path – SecureWorld is… access to the knowledge and solutions you need in the place you live – SecureWorld is… a unique experience with excellence in both speakers and content \nSchedule Speakers:  \n\n\nMike Ehlers: Global Senior Manager\, Information Security\n\nReanna Schulz: Team leader of Information Security\, Garmin\nTony Bryan: Executive Director\, CyberUp\nAnd MORE!\n\n  \nRegistration Info: \nUse this LINK and the codes below for discounted or FREE conference pass! \nConference Pass: $75 discount- WICYSSWC1 \nPLUS Course Pass: $100 discount- WICYSSWP1 \nOpen Session Complementary pass- WICYSSWO1
URL:https://www.wicys.org/event/wicys-st-louis-affilaite-secureworld-st-louis/
LOCATION:The Ritz-Carlton St. Louis\, 100 Carondelet Plaza\, Clayton\, MO\, 63105\, United States
CATEGORIES:WiCyS Affiliate
ATTACH;FMTTYPE=image/png:https://www.wicys.org/wp-content/uploads/2024/06/WiCyS-at-SecureWorld-St.-Louis.png
ORGANIZER;CN="WiCyS - St. Louis":MAILTO:WiCySStLouis@wicys.org
END:VEVENT
BEGIN:VEVENT
DTSTART;TZID=UTC:20240425T080000
DTEND;TZID=UTC:20240425T180000
DTSTAMP:20260422T131441
CREATED:20240212T173821Z
LAST-MODIFIED:20240419T180125Z
UID:10001484-1714032000-1714068000@www.wicys.org
SUMMARY:WiCyS St. Louis | Data Connectors St. Louis Cybersecurity Conference
DESCRIPTION:Join our St. Louis Affiliate at Data Connectors St. Louis Cybersecurity Conference to connect with WiCyS members. Stop by our booth to meet our affiliate\, snag some swag\, and learn more about WiCyS. \nEmbrace the St. Louis Cybersecurity Conference as your opportunity to connect with peers and industry specialists\, all in a vibrant in-person setting. The dynamic discussions will traverse an array of topics\, spanning from emerging cybersecurity challenges to ingenious strategies aimed at fortifying your organization against the prowess of advanced threat actors. \nDiscover the full spectrum of tailored offerings provided by Data Connectors\, curated exclusively for the St. Louis Cybersecurity Conference\, right here! \nScheduled Speakers: \n\nGeorge Finney: CEO of Well Aware Security\nEd Adams: President & CEO of Security Innovation\n\nRegister using code WICYS HERE
URL:https://www.wicys.org/event/wicys-st-louis-data-connectors-st-louis-cybersecurity-conference/
LOCATION:DoubleTree by Hilton Hotel St. Louis – Westport\, 1973 Craigshire St.\, St. Louis\, MO\, 63146\, United States
CATEGORIES:WiCyS Affiliate
ATTACH;FMTTYPE=image/png:https://www.wicys.org/wp-content/uploads/2024/02/WiCyS-St.-Louis-at-Data-Connectors_St.-Louis.png
ORGANIZER;CN="WiCyS - St. Louis":MAILTO:WiCySStLouis@wicys.org
END:VEVENT
END:VCALENDAR