BEGIN:VCALENDAR
VERSION:2.0
PRODID:-//WiCyS - Women in Cybersecurity - ECPv6.15.20//NONSGML v1.0//EN
CALSCALE:GREGORIAN
METHOD:PUBLISH
X-ORIGINAL-URL:https://www.wicys.org
X-WR-CALDESC:Events for WiCyS - Women in Cybersecurity
REFRESH-INTERVAL;VALUE=DURATION:PT1H
X-Robots-Tag:noindex
X-PUBLISHED-TTL:PT1H
BEGIN:VTIMEZONE
TZID:America/Denver
BEGIN:DAYLIGHT
TZOFFSETFROM:-0700
TZOFFSETTO:-0600
TZNAME:MDT
DTSTART:20230312T090000
END:DAYLIGHT
BEGIN:STANDARD
TZOFFSETFROM:-0600
TZOFFSETTO:-0700
TZNAME:MST
DTSTART:20231105T080000
END:STANDARD
BEGIN:DAYLIGHT
TZOFFSETFROM:-0700
TZOFFSETTO:-0600
TZNAME:MDT
DTSTART:20240310T090000
END:DAYLIGHT
BEGIN:STANDARD
TZOFFSETFROM:-0600
TZOFFSETTO:-0700
TZNAME:MST
DTSTART:20241103T080000
END:STANDARD
BEGIN:DAYLIGHT
TZOFFSETFROM:-0700
TZOFFSETTO:-0600
TZNAME:MDT
DTSTART:20250309T090000
END:DAYLIGHT
BEGIN:STANDARD
TZOFFSETFROM:-0600
TZOFFSETTO:-0700
TZNAME:MST
DTSTART:20251102T080000
END:STANDARD
END:VTIMEZONE
BEGIN:VTIMEZONE
TZID:UTC
BEGIN:STANDARD
TZOFFSETFROM:+0000
TZOFFSETTO:+0000
TZNAME:UTC
DTSTART:20230101T000000
END:STANDARD
END:VTIMEZONE
BEGIN:VTIMEZONE
TZID:America/Denver
BEGIN:DAYLIGHT
TZOFFSETFROM:-0700
TZOFFSETTO:-0600
TZNAME:MDT
DTSTART:20220313T090000
END:DAYLIGHT
BEGIN:STANDARD
TZOFFSETFROM:-0600
TZOFFSETTO:-0700
TZNAME:MST
DTSTART:20221106T080000
END:STANDARD
BEGIN:DAYLIGHT
TZOFFSETFROM:-0700
TZOFFSETTO:-0600
TZNAME:MDT
DTSTART:20230312T090000
END:DAYLIGHT
BEGIN:STANDARD
TZOFFSETFROM:-0600
TZOFFSETTO:-0700
TZNAME:MST
DTSTART:20231105T080000
END:STANDARD
BEGIN:DAYLIGHT
TZOFFSETFROM:-0700
TZOFFSETTO:-0600
TZNAME:MDT
DTSTART:20240310T090000
END:DAYLIGHT
BEGIN:STANDARD
TZOFFSETFROM:-0600
TZOFFSETTO:-0700
TZNAME:MST
DTSTART:20241103T080000
END:STANDARD
END:VTIMEZONE
BEGIN:VEVENT
DTSTART;TZID=America/Denver:20240614T113000
DTEND;TZID=America/Denver:20240614T123000
DTSTAMP:20260421T141447
CREATED:20240513T152411Z
LAST-MODIFIED:20240612T143211Z
UID:10001770-1718364600-1718368200@www.wicys.org
SUMMARY:WiCyS Utah | "Diversity of Thought in Security"
DESCRIPTION:We’re thrilled to announce an upcoming WiCyS Utah event focused on “Diversity of Thought in Security\,” featuring the remarkable Jeanette Hanna-Ruiz as our keynote speaker! Join us as we explore the critical role diversity of thought plays in enhancing our cybersecurity efforts. Jeanette Hanna-Ruiz\, a seasoned leader with extensive experience in both government and private sectors\, will share her insights on how diverse perspectives can drive innovation and strengthen our security strategies. \nWhether you’re a cybersecurity professional looking to deepen your knowledge or someone interested in the intersection of diversity and technology\, this event promises valuable insights and networking opportunities. \nDon’t miss out on this unique opportunity to learn from one of the best in the industry and to connect with peers who are equally passionate about making a difference in the world of security. \nRegister HERE for this virtual event!
URL:https://www.wicys.org/event/wicys-utah-diversity-of-thought-in-security/
LOCATION:Virtual
CATEGORIES:WiCyS Affiliate
ATTACH;FMTTYPE=image/png:https://www.wicys.org/wp-content/uploads/2024/05/WiCyS-Utah-_-Diversity-of-Thought-in-Security.png
ORGANIZER;CN="WiCyS - Utah":MAILTO:wicysutah@wicys.org
END:VEVENT
BEGIN:VEVENT
DTSTART;TZID=UTC:20240606T073000
DTEND;TZID=UTC:20240606T180000
DTSTAMP:20260421T141447
CREATED:20240222T140056Z
LAST-MODIFIED:20240222T140056Z
UID:10001675-1717659000-1717696800@www.wicys.org
SUMMARY:WiCyS Utah Affiliate | Cyber Security Summit Salt Lake City
DESCRIPTION:Join our Utah Affiliate at Cybersecurity Summit Salt Lake City to connect with WiCyS members. Stop by our booth to meet our affiliate\, snag some swag\, and learn more about WiCyS. \nThe Second Annual Salt Lake City Cybersecurity Summit connects C-Suite & Senior Executives responsible for protecting their companies’ critical infrastructures with innovative solution providers and renowned information security experts. Admission gives you access to all Interactive Panels\, Discussions\, Catered Breakfast\, Lunch & Cocktail Reception. \nScheduled Keynote Speaker: \n\nRobert Montgomery: Cybersecurity Coordinator\, CISA Utah\n\nScheduled Panels: \n\nDefining Cybersecurity-Readiness – How Do You Evaluate Yours?\n2024 & The Biggest Threats to Your Business – How to Manage Your Attack Surface & Protect Against Ransomware\, Artificial Intelligence\, DDos attacks & more!\nConceptualizing Cloud Security & Why it Matters Today\n\nRegister NOW for this event\, and use our exclusive code- CSS24-WICYSNAT for FREE admission
URL:https://www.wicys.org/event/wicys-utah-affiliate-cyber-security-summit-salt-lake-city/
LOCATION:Sheraton Salt Lake City Hotel\, 150 West 500 South\, Salt Lake City\, UT\, 84101\, United States
CATEGORIES:WiCyS Affiliate
ATTACH;FMTTYPE=image/png:https://www.wicys.org/wp-content/uploads/2024/02/WiCyS-Utah-Affiliates-At-CyberSecurity-Summit-2024_.png
ORGANIZER;CN="WiCyS - Utah":MAILTO:wicysutah@wicys.org
END:VEVENT
BEGIN:VEVENT
DTSTART;TZID=America/Denver:20240308T120000
DTEND;TZID=America/Denver:20240308T140000
DTSTAMP:20260421T141447
CREATED:20240227T020408Z
LAST-MODIFIED:20240227T020408Z
UID:10001681-1709899200-1709906400@www.wicys.org
SUMMARY:WiCyS Utah Affiliate | Celebrates International Women's Day 2024!
DESCRIPTION:Join the WiCyS Utah Affiliate to celebrate International Women’s Day 2024 on March 8th\, 12:00 pm-2:00 pm MST. Scheduled speakers include: \n\n\nShalini Kesar: Professor in Cybersecurity at SUU and President of WiCyS Utah·Southern Utah University\nKristina Belnap: SVP\, CSO at SILAC and VP of WiCyS Utah·SILAC\nLiz Benegas: General Counsel at Torri and Secretary WiCyS Utah·Torri Software\nMark Mllne: CISO at Westfield·Westfield\nParker Hannifin: Information Security Analyst at Westfield·Westfield\nAmram Musungu: Founder of The HELM Foundation Organization.\nMike Musas: Graduate Student·SUU\n\n\nRSVP for this FREE event HERE
URL:https://www.wicys.org/event/wicys-utah-affiliate-celebrates-international-womens-day-2024/
LOCATION:Virtual
CATEGORIES:WiCyS Affiliate
ATTACH;FMTTYPE=image/jpeg:https://www.wicys.org/wp-content/uploads/2024/02/IWD-2024-1.jpg
ORGANIZER;CN="WiCyS - Utah":MAILTO:wicysutah@wicys.org
END:VEVENT
BEGIN:VEVENT
DTSTART;TZID=America/Denver:20231013T120000
DTEND;TZID=America/Denver:20231013T133000
DTSTAMP:20260421T141447
CREATED:20231003T222944Z
LAST-MODIFIED:20231003T223105Z
UID:10001366-1697198400-1697203800@www.wicys.org
SUMMARY:Utah Affiliate | We Sis (WiCyS) Are Celebrating NCSAM!
DESCRIPTION:October is National Cyber Security Awareness Month (NCSAM). Cybersecurity Awareness Month 2023 will focus on four key behaviors: enabling multi-factor authentication\, using strong passwords\, using a password manager\, and updating software. Please join to hear how WiCyS Utah has dedicated itself to creating a resource platform to build and maintain a strong-knit community. Hear from leaders in industry and academia about the mission of WiCySUtah and what role they play in the four critical behaviors in keeping their environments “safe and responsible.” Also\, hear from our founders\, who are now part of the WiCySUtah Advisory Board\, and from SUU students/Tbirds!\nWiCyS Utah Leadership \nPresident: Dr. Shalini Kesar – Professor | Director of MS-Cyber Security & Information Assurance @ Southern Utah University\nVice President: Kristina Belnap – CISO @ HealthEquity\nTreasurer: Sherrie Cowley – Head of Security Operations and Engineering @ 3M Health Care\nSecretary: Elizabeth Benegas – General Counsel @ Torii \nJoin here.
URL:https://www.wicys.org/event/we-sis-wicys-are-celebrating-ncsam/
LOCATION:Remote
ATTACH;FMTTYPE=image/png:https://www.wicys.org/wp-content/uploads/2023/09/WiCyS-Utah-Affiliate-Logo-on-Shield.png
ORGANIZER;CN="WiCyS - Utah":MAILTO:wicysutah@wicys.org
END:VEVENT
END:VCALENDAR