BEGIN:VCALENDAR
VERSION:2.0
PRODID:-//WiCyS - Women in Cybersecurity - ECPv6.15.20//NONSGML v1.0//EN
CALSCALE:GREGORIAN
METHOD:PUBLISH
X-WR-CALNAME:WiCyS - Women in Cybersecurity
X-ORIGINAL-URL:https://www.wicys.org
X-WR-CALDESC:Events for WiCyS - Women in Cybersecurity
REFRESH-INTERVAL;VALUE=DURATION:PT1H
X-Robots-Tag:noindex
X-PUBLISHED-TTL:PT1H
BEGIN:VTIMEZONE
TZID:UTC
BEGIN:STANDARD
TZOFFSETFROM:+0000
TZOFFSETTO:+0000
TZNAME:UTC
DTSTART:20230101T000000
END:STANDARD
END:VTIMEZONE
BEGIN:VEVENT
DTSTART;TZID=UTC:20240202T080000
DTEND;TZID=UTC:20240202T150000
DTSTAMP:20260423T064812
CREATED:20240126T185322Z
LAST-MODIFIED:20240129T210015Z
UID:10001458-1706860800-1706886000@www.wicys.org
SUMMARY:WiCyS Career Panel with Quintana Patterson at Jeffcon
DESCRIPTION:The Jeffco Public Schools IT department started Jeffcon event in 2017 as an offering a unique opportunity for the high school students in the district to dive deep into the world of information technology. The day is filled with exploration\, that allows students to learn from seasoned Jeffco staff and industry professionals\, including Quintana Patterson\, WiCyS Cybersecurity and Technology Manager\,  gaining insight into various IT roles and discovering the multitude of career paths available in the IT field. \nJeffco Public Schools is a school district outside the Denver\, CO metropolitan area.
URL:https://www.wicys.org/event/wicys-career-discussion-at-jeffcon/
LOCATION:Arvada West High School\, 11595 Allendale Dr.\, Arvada\, CO\, 80004\, United States
ATTACH;FMTTYPE=image/jpeg:https://www.wicys.org/wp-content/uploads/2024/01/3dc0a807-5bdb-4db6-8954-936b3ccf2311.jpeg
ORGANIZER;CN="ISACA Denver Chapter":MAILTO:membership@denver.isacachapter.org
END:VEVENT
END:VCALENDAR