BEGIN:VCALENDAR
VERSION:2.0
PRODID:-//WiCyS - Women in Cybersecurity - ECPv6.15.20//NONSGML v1.0//EN
CALSCALE:GREGORIAN
METHOD:PUBLISH
X-WR-CALNAME:WiCyS - Women in Cybersecurity
X-ORIGINAL-URL:https://www.wicys.org
X-WR-CALDESC:Events for WiCyS - Women in Cybersecurity
REFRESH-INTERVAL;VALUE=DURATION:PT1H
X-Robots-Tag:noindex
X-PUBLISHED-TTL:PT1H
BEGIN:VTIMEZONE
TZID:UTC
BEGIN:STANDARD
TZOFFSETFROM:+0000
TZOFFSETTO:+0000
TZNAME:UTC
DTSTART:20230101T000000
END:STANDARD
END:VTIMEZONE
BEGIN:VEVENT
DTSTART;VALUE=DATE:20241003
DTEND;VALUE=DATE:20241004
DTSTAMP:20260422T221721
CREATED:20240910T151414Z
LAST-MODIFIED:20240910T151414Z
UID:10001883-1727913600-1727999999@www.wicys.org
SUMMARY:WiCyS Pittsburgh Affiliate | Three Rivers Information Security Symposium (TRISS)
DESCRIPTION:The three Rivers information security symposium is a one day multi track event that brings together Pittsburgh’s top IT and security professionals to share knowledge and collaborate. \n  \nRegister for this event HERE
URL:https://www.wicys.org/event/wicys-pittsburgh-affiliate-three-rivers-information-security-symposium-triss/
LOCATION:David L. Lawrence Convention Center\, 1000 Fort Duquesne Blvd\, Pittsburgh\, PA\, 15222\, United States
ATTACH;FMTTYPE=image/png:https://www.wicys.org/wp-content/uploads/2024/09/WiCyS-Pittsburgh-at-Three-Rivers-Information_Security-Symposium.png
ORGANIZER;CN="WiCyS - Pittsburgh Affiliate":MAILTO:WiCySPittsburgh@wicys.org
END:VEVENT
END:VCALENDAR