BEGIN:VCALENDAR
VERSION:2.0
PRODID:-//WiCyS - Women in Cybersecurity - ECPv6.15.20//NONSGML v1.0//EN
CALSCALE:GREGORIAN
METHOD:PUBLISH
X-ORIGINAL-URL:https://www.wicys.org
X-WR-CALDESC:Events for WiCyS - Women in Cybersecurity
REFRESH-INTERVAL;VALUE=DURATION:PT1H
X-Robots-Tag:noindex
X-PUBLISHED-TTL:PT1H
BEGIN:VTIMEZONE
TZID:UTC
BEGIN:STANDARD
TZOFFSETFROM:+0000
TZOFFSETTO:+0000
TZNAME:UTC
DTSTART:20230101T000000
END:STANDARD
END:VTIMEZONE
BEGIN:VEVENT
DTSTART;VALUE=DATE:20250521
DTEND;VALUE=DATE:20250522
DTSTAMP:20260422T204516
CREATED:20250228T163015Z
LAST-MODIFIED:20250421T174023Z
UID:10002050-1747785600-1747871999@www.wicys.org
SUMMARY:WiCyS Chicago Affiliate | SecureWorld Chicago
DESCRIPTION:Join our Chicago Affiliate at SecureWorld Chicago to connect with WiCyS members. Please stop by our booth to meet our affiliate\, snag some swag\, and learn more! Don’t miss WiCyS Executive Director Lynn Dohm moderating the opening keynote. \nJoin your fellow InfoSec professionals for high-quality training and collaboration\, whether virtual or in-person. Earn 6-18 CPE credits through 20-40 educational elements\, learning from nationally recognized industry leaders. Attend featured keynotes\, panel discussions\, breakout sessions\, and networking opportunities. Evaluate top vendor solutions and meet with local chapters of security associations. Learn more about SecureWorld Chicago HERE \nScheduled Speakers: \n\nCarol Glennon: Global Director\, Cybersecurity Operations\, McDonald’s\nTodd Covert: CISO\, National General\, Allstate\nKenneth Townsend: Global CISO\, Ingredion Incorporated\nAnd MORE!\n\n  \nRegistration Info: \nUse this LINK and the codes below for discounted or FREE conference pass! \nConference Pass: $75 discount- WICYSSWC2 \nPLUS Course Pass: $100 discount- WICYSSWP2 \nOpen Session Complementary pass- WICYSSWO2
URL:https://www.wicys.org/event/wicys-chicago-affiliate-secureworld-chicago/
LOCATION:Donald E. Stephens Convention Center\, 5555 N River Rd\, Rosemont\, IL\, 60018\, United States
CATEGORIES:WiCyS Affiliate
ATTACH;FMTTYPE=image/png:https://www.wicys.org/wp-content/uploads/2025/02/Opening_Keynote_Securing_the_Windy_City_SecureWorld_CHI_2025_V6.png
END:VEVENT
BEGIN:VEVENT
DTSTART;VALUE=DATE:20240606
DTEND;VALUE=DATE:20240607
DTSTAMP:20260422T204516
CREATED:20240523T134725Z
LAST-MODIFIED:20240523T134835Z
UID:10001793-1717632000-1717718399@www.wicys.org
SUMMARY:WiCyS Chicago | SecureWorld Chicago
DESCRIPTION:Join our Chicago Affiliate at SecureWord Chicago to connect with WiCyS members. Stop by our booth to meet our affiliate\, snag some swag\, and learn more. \nSecureWorld events and programming foster Growth\, Access\, and Excellence among cybersecurity professionals. Conference theme for 2024: Legacies Untold: Revealing Cybersecurity’s Hidden Figures. \nSecureWorld is… the stepping stone to grow in your abilities and career path – SecureWorld is… access to the knowledge and solutions you need\, in the place you live – SecureWorld is… a unique experience with excellence in both speakers and content \nSchedule Speakers:  \n\n\nShefali Mookencherry: CISO & CPO\, University of Illinois at Chicago\n\nKenneth Townsend: Global CISO\, Ingredion Incorporated\nCameron H. Malin: Cyber Behavioral Profiler\, FBI (Ret.) and Modus Cyberandi\nAnd MORE!\n\n  \nRegistration Info: \nUse this LINK and the codes below for discounted or FREE conference pass! \nConference Pass: $75 discount- WICYSSWC2 \nPLUS Course Pass: $100 discount- WICYSSWP2 \nOpen Session Complementary pass- WICYSSWO2
URL:https://www.wicys.org/event/wicys-chicago-secureworld-chicago/
LOCATION:Donald E. Stephens Convention Center\, 5555 N River Rd\, Rosemont\, IL\, 60018\, United States
CATEGORIES:WiCyS Affiliate
ATTACH;FMTTYPE=image/png:https://www.wicys.org/wp-content/uploads/2024/05/WiCyS-Chicago-at-SecureWorld-Chicago.png
END:VEVENT
END:VCALENDAR