BEGIN:VCALENDAR
VERSION:2.0
PRODID:-//WiCyS - Women in Cybersecurity - ECPv6.15.20//NONSGML v1.0//EN
CALSCALE:GREGORIAN
METHOD:PUBLISH
X-WR-CALNAME:WiCyS - Women in Cybersecurity
X-ORIGINAL-URL:https://www.wicys.org
X-WR-CALDESC:Events for WiCyS - Women in Cybersecurity
REFRESH-INTERVAL;VALUE=DURATION:PT1H
X-Robots-Tag:noindex
X-PUBLISHED-TTL:PT1H
BEGIN:VTIMEZONE
TZID:UTC
BEGIN:STANDARD
TZOFFSETFROM:+0000
TZOFFSETTO:+0000
TZNAME:UTC
DTSTART:20240101T000000
END:STANDARD
END:VTIMEZONE
BEGIN:VEVENT
DTSTART;TZID=UTC:20251114T163000
DTEND;TZID=UTC:20251114T190000
DTSTAMP:20260425T182847
CREATED:20251030T134323Z
LAST-MODIFIED:20251030T134323Z
UID:10002632-1763137800-1763146800@www.wicys.org
SUMMARY:WiCyS Delaware Valley Affiliate | BSides Delaware Happy Hour
DESCRIPTION:Join Women in CyberSecurity (WiCyS) Delaware Valley in collaboration with BSides Delaware for a lively happy hour sponsored by CSC and FirstPro! Enjoy great company along with complimentary food and drinks\, following the first day of BSides Delaware. This is a fantastic opportunity to network with cybersecurity professionals from across the region in a relaxed and welcoming setting. \n  \nAdvance registration is encouraged! RSVP HERE \n(If your maps don’t find it\, plug in 591 Discovery way)
URL:https://www.wicys.org/event/wicys-delaware-valley-affiliate-bsides-delaware-happy-hour/
LOCATION:GRAIN Exchange at STAR Campus\, 591 Collaboration Way\, Newark\, PA\, 19713\, United States
ATTACH;FMTTYPE=image/png:https://www.wicys.org/wp-content/uploads/2025/10/Screenshot-2025-10-22-090605-e1761831724345.png
ORGANIZER;CN="WiCyS Delaware Valley Affliate":MAILTO:Wicysdelawarevalley@wicys.org
END:VEVENT
END:VCALENDAR