BEGIN:VCALENDAR
VERSION:2.0
PRODID:-//WiCyS - Women in Cybersecurity - ECPv6.15.20//NONSGML v1.0//EN
CALSCALE:GREGORIAN
METHOD:PUBLISH
X-WR-CALNAME:WiCyS - Women in Cybersecurity
X-ORIGINAL-URL:https://www.wicys.org
X-WR-CALDESC:Events for WiCyS - Women in Cybersecurity
REFRESH-INTERVAL;VALUE=DURATION:PT1H
X-Robots-Tag:noindex
X-PUBLISHED-TTL:PT1H
BEGIN:VTIMEZONE
TZID:Africa/Lagos
BEGIN:STANDARD
TZOFFSETFROM:+0100
TZOFFSETTO:+0100
TZNAME:WAT
DTSTART:20230101T000000
END:STANDARD
END:VTIMEZONE
BEGIN:VEVENT
DTSTART;TZID=Africa/Lagos:20241010T080000
DTEND;TZID=Africa/Lagos:20241010T170000
DTSTAMP:20260422T221346
CREATED:20240918T200949Z
LAST-MODIFIED:20240918T200949Z
UID:10001899-1728547200-1728579600@www.wicys.org
SUMMARY:WiCyS Nigeria Affiliate | 2024 Leadership Forum
DESCRIPTION:Join the WiCyS Ngeria leadership forum to bridge the existing gender divide in cybersecurity\, by shining the light on women in cybersecurity who have and are still occupying leadership roles so as to inspire the next generation with knowledge\, resources\, and networks to advance their careers and leadership roles. \n*Overarching Theme*\nAdvancing Cybersecurity through Inclusive Leadership \n*Sub Themes*\na. Career Development and Mentorship in Cybersecurity\nb. Cybersecurity Policy and Regulation
URL:https://www.wicys.org/event/wicys-nigeria-affiliate-2024-leadership-forum/
LOCATION:Hybrid
ATTACH;FMTTYPE=image/jpeg:https://www.wicys.org/wp-content/uploads/2024/09/IMG-20240917-WA0000.jpg
END:VEVENT
END:VCALENDAR