BEGIN:VCALENDAR
VERSION:2.0
PRODID:-//WiCyS - Women in Cybersecurity - ECPv6.15.20//NONSGML v1.0//EN
CALSCALE:GREGORIAN
METHOD:PUBLISH
X-ORIGINAL-URL:https://www.wicys.org
X-WR-CALDESC:Events for WiCyS - Women in Cybersecurity
REFRESH-INTERVAL;VALUE=DURATION:PT1H
X-Robots-Tag:noindex
X-PUBLISHED-TTL:PT1H
BEGIN:VTIMEZONE
TZID:UTC
BEGIN:STANDARD
TZOFFSETFROM:+0000
TZOFFSETTO:+0000
TZNAME:UTC
DTSTART:20230101T000000
END:STANDARD
END:VTIMEZONE
BEGIN:VEVENT
DTSTART;VALUE=DATE:20250312
DTEND;VALUE=DATE:20250314
DTSTAMP:20260426T043017
CREATED:20250128T193723Z
LAST-MODIFIED:20250128T201654Z
UID:10002024-1741737600-1741910399@www.wicys.org
SUMMARY:WiCyS Massachusetts Affiliate | SecureWorld Boston 2025
DESCRIPTION:Join our Massachusetts at SecureWorld Boston to connect with WiCyS members. Please stop by our booth to meet our affiliate\, snag some swag\, and learn more! \nJoin your fellow InfoSec professionals for high-quality training and collaboration\, whether virtual or in-person. Earn 6-18 CPE credits through 20-40 educational elements\, learning from nationally recognized industry leaders. Attend featured keynotes\, panel discussions\, breakout sessions\, and networking opportunities. Evaluate top vendor solutions and meet with local chapters of security associations. Learn more about SecureWorld Boston HERE \nScheduled Speakers: \n\nBrian McGowan: VP\, Global Security & Privacy\, SharkNinja\nLisa Plaggemier: Executive Director\, NSA\nBill Bowman: Operating Partner | CISO\, Welsh\, Carson\, Anderson & Stowe\nAnd MORE!\n\n  \nRegistration Info: \nUse this LINK and the codes below for discounted or FREE conference pass! \nConference Pass: $75 discount- WICYSSWC2 \nPLUS Course Pass: $100 discount- WICYSSWP2 \nOpen Session Complementary pass- WICYSSWO2
URL:https://www.wicys.org/event/wicys-massachusetts-affiliate-secureworld-boston-2025/
LOCATION:Hynes Convention Center\, 900 Boylston St\, Boston\, MA\, 02115\, United States
CATEGORIES:WiCyS Affiliate
ATTACH;FMTTYPE=image/png:https://www.wicys.org/wp-content/uploads/2025/01/WiCyS-Massachusetts-at-SecureWorld-Boston-i.png
ORGANIZER;CN="WiCyS Massachusetts":MAILTO:WiCySMassachusetts@wicys.org
END:VEVENT
BEGIN:VEVENT
DTSTART;TZID=UTC:20240314T120000
DTEND;TZID=UTC:20240314T124500
DTSTAMP:20260426T043017
CREATED:20240124T153030Z
LAST-MODIFIED:20240124T153030Z
UID:10001451-1710417600-1710420300@www.wicys.org
SUMMARY:Lynn Dohm Fireside Chat | SecureWorld Boston
DESCRIPTION:Lynn Dohm will be the moderator for the Fireside Chat titled Transitioning from CISO to CIO: What Changes? featuring Steve Naphy\, CIO\, Morgan\, Lewis & Bokius LLP at Secure World Boston. Hear from Lynn and learn from Steve his move from head of InfoSec to Chief Information Officer. \nDon’t forget to join our Massachusetts Affiliate to connect with WiCyS members. Stop by our booth to meet our with them\, snag some swag\, and learn more about WiCyS. Learn more about the event HERE \nUse this LINK and the codes below for discounted or FREE conference pass! \n$75 discount- WICYSSWC2 \n$100 discount- WICYSSWP2 \nComplementary pass- WICYSSWO2 \n 
URL:https://www.wicys.org/event/lynn-dohm-fireside-chat-secureworld-boston/
LOCATION:Hynes Convention Center\, 900 Boylston St\, Boston\, MA\, 02115\, United States
ATTACH;FMTTYPE=image/png:https://www.wicys.org/wp-content/uploads/2024/01/Lynn-Dohm-at-SecureWorld-Boston-2.png
END:VEVENT
BEGIN:VEVENT
DTSTART;VALUE=DATE:20240313
DTEND;VALUE=DATE:20240315
DTSTAMP:20260426T043017
CREATED:20240112T160931Z
LAST-MODIFIED:20240129T034820Z
UID:10001436-1710288000-1710460799@www.wicys.org
SUMMARY:WiCyS Massachusetts Affiliate | SecureWorld Boston
DESCRIPTION:Join our Massachusetts Affiliate at SecureWorld Boston to connect with WiCyS members. Stop by our booth to meet our affiliate\, snag some swag\, and learn more about WiCyS. \nSecureWorld events and programming foster Growth\, Access\, and Excellence among cybersecurity professionals. Conference theme for 2024: Legacies Untold: Revealing Cybersecurity’s Hidden Figures. \nSecureWorld is… the stepping stone to grow in your abilities and career path – SecureWorld is… access to the knowledge and solutions you need\, in the place you live – SecureWorld is… a unique experience with excellence in both speakers and content \nSchedule Speakers:  \n\nKrista Arndt: CISO\, United Musculoskeletal Partners\nScott Margolis: CISO\, Massachusetts Bay Transportation Authority\nAnd MORE!\n\n  \nRegistration Info: \nUse this LINK and the codes below for discounted or FREE conference pass! \nConference Pass: $75 discount- WICYSSWC2 \nPLUS Course Pass: $100 discount- WICYSSWP2 \nOpen Session Complementary pass- WICYSSWO2
URL:https://www.wicys.org/event/wicys-massachusetts-secureworld-boston/
LOCATION:Hynes Convention Center\, 900 Boylston St\, Boston\, MA\, 02115\, United States
CATEGORIES:WiCyS Affiliate
ATTACH;FMTTYPE=image/png:https://www.wicys.org/wp-content/uploads/2024/01/WiCyS-Massachusetts-at-SecureWorld-Boston.png
ORGANIZER;CN="WiCyS Massachusetts":MAILTO:WiCySMassachusetts@wicys.org
END:VEVENT
END:VCALENDAR