BEGIN:VCALENDAR
VERSION:2.0
PRODID:-//WiCyS - Women in Cybersecurity - ECPv6.15.20//NONSGML v1.0//EN
CALSCALE:GREGORIAN
METHOD:PUBLISH
X-ORIGINAL-URL:https://www.wicys.org
X-WR-CALDESC:Events for WiCyS - Women in Cybersecurity
REFRESH-INTERVAL;VALUE=DURATION:PT1H
X-Robots-Tag:noindex
X-PUBLISHED-TTL:PT1H
BEGIN:VTIMEZONE
TZID:UTC
BEGIN:STANDARD
TZOFFSETFROM:+0000
TZOFFSETTO:+0000
TZNAME:UTC
DTSTART:20240101T000000
END:STANDARD
END:VTIMEZONE
BEGIN:VEVENT
DTSTART;TZID=UTC:20251025T160000
DTEND;TZID=UTC:20251025T170000
DTSTAMP:20260425T013459
CREATED:20251027T154145Z
LAST-MODIFIED:20251027T154145Z
UID:10002625-1761408000-1761411600@www.wicys.org
SUMMARY:WiCyS San Diego Affiliate | Book Club Meetup
DESCRIPTION:The book is Playing Big by Tara Mohr.\n“In her coaching and programs for women\, Tara Mohr saw how women were “playing small” in their lives and careers\, were frustrated by it\, and wanted to “play bigger”. She has devised a proven way for them to achieve their dreams by playing big from the inside out. Mohr’s work helping women play bigger has earned acclaim from the likes of Maria Shriver and Jillian Michaels\, and has been featured on the Today show\, CNN\, and a host of other media outlets.” \n  \nRegister HERE
URL:https://www.wicys.org/event/wicys-san-diego-affiliate-book-club-meetup/
LOCATION:La Jolla Riford Library\, 7555 Draper Avenue\, La Jolla\, CA\, 92037\, United States
CATEGORIES:WiCyS Affiliate
ATTACH;FMTTYPE=image/png:https://www.wicys.org/wp-content/uploads/2025/10/book_club_in_person_global.png
ORGANIZER;CN="WiCyS San Diego Affiliate":MAILTO:WiCySSanDiego@wicys.org
END:VEVENT
END:VCALENDAR