BEGIN:VCALENDAR
VERSION:2.0
PRODID:-//WiCyS - Women in Cybersecurity - ECPv6.15.20//NONSGML v1.0//EN
CALSCALE:GREGORIAN
METHOD:PUBLISH
X-WR-CALNAME:WiCyS - Women in Cybersecurity
X-ORIGINAL-URL:https://www.wicys.org
X-WR-CALDESC:Events for WiCyS - Women in Cybersecurity
REFRESH-INTERVAL;VALUE=DURATION:PT1H
X-Robots-Tag:noindex
X-PUBLISHED-TTL:PT1H
BEGIN:VTIMEZONE
TZID:America/New_York
BEGIN:DAYLIGHT
TZOFFSETFROM:-0500
TZOFFSETTO:-0400
TZNAME:EDT
DTSTART:20240310T070000
END:DAYLIGHT
BEGIN:STANDARD
TZOFFSETFROM:-0400
TZOFFSETTO:-0500
TZNAME:EST
DTSTART:20241103T060000
END:STANDARD
BEGIN:DAYLIGHT
TZOFFSETFROM:-0500
TZOFFSETTO:-0400
TZNAME:EDT
DTSTART:20250309T070000
END:DAYLIGHT
BEGIN:STANDARD
TZOFFSETFROM:-0400
TZOFFSETTO:-0500
TZNAME:EST
DTSTART:20251102T060000
END:STANDARD
BEGIN:DAYLIGHT
TZOFFSETFROM:-0500
TZOFFSETTO:-0400
TZNAME:EDT
DTSTART:20260308T070000
END:DAYLIGHT
BEGIN:STANDARD
TZOFFSETFROM:-0400
TZOFFSETTO:-0500
TZNAME:EST
DTSTART:20261101T060000
END:STANDARD
END:VTIMEZONE
BEGIN:VEVENT
DTSTART;TZID=America/New_York:20250710T183000
DTEND;TZID=America/New_York:20250710T193000
DTSTAMP:20260423T064516
CREATED:20250627T162407Z
LAST-MODIFIED:20250627T162407Z
UID:10002375-1752172200-1752175800@www.wicys.org
SUMMARY:WiCyS Latina Afiliate | Empowering Voices: Latinas in Cybersecurity
DESCRIPTION:Join us for an inspiring conversation with Latina leaders in cybersecurity as they share their journeys\, challenges\, and triumphs in the tech industry. Discover the diverse roles within cybersecurity\, the importance of representation\, and how to navigate a career in this dynamic field. \n  \nPlease register for this event HERE
URL:https://www.wicys.org/event/wicys-latina-afiliate-empowering-voices-latinas-in-cybersecurity/
LOCATION:LinkedIn
ATTACH;FMTTYPE=image/png:https://www.wicys.org/wp-content/uploads/2025/06/July-10-Flyer.png
END:VEVENT
END:VCALENDAR