BEGIN:VCALENDAR
VERSION:2.0
PRODID:-//WiCyS - Women in Cybersecurity - ECPv6.15.20//NONSGML v1.0//EN
CALSCALE:GREGORIAN
METHOD:PUBLISH
X-ORIGINAL-URL:https://www.wicys.org
X-WR-CALDESC:Events for WiCyS - Women in Cybersecurity
REFRESH-INTERVAL;VALUE=DURATION:PT1H
X-Robots-Tag:noindex
X-PUBLISHED-TTL:PT1H
BEGIN:VTIMEZONE
TZID:UTC
BEGIN:STANDARD
TZOFFSETFROM:+0000
TZOFFSETTO:+0000
TZNAME:UTC
DTSTART:20240101T000000
END:STANDARD
END:VTIMEZONE
BEGIN:VEVENT
DTSTART;VALUE=DATE:20251210
DTEND;VALUE=DATE:20251211
DTSTAMP:20260426T003239
CREATED:20251106T142806Z
LAST-MODIFIED:20251106T142806Z
UID:10002657-1765324800-1765411199@www.wicys.org
SUMMARY:WiCyS | MSSP Alert Live Women in Tech Panel
DESCRIPTION:Add to your agenda to see Executive Director Lynn Dohm featured on the Women in Tech Panel: Leading with Vision and Impact on December 10th. Lynn brings bold leadership and deep insight into building inclusive cybersecurity communities. Don’t miss this chance to hear her perspective on driving change\, mentoring future leaders\, and shaping the future of tech \nMSSP Alert Live\, the industry’s most anticipated event for MSSPs\, MSPs\, cybersecurity leaders\, and innovators\, is back and better than ever! Whether you are just getting started offering managed security services\, are an MSP looking to expand your offerings\, or you’re an established MSSP\, MSSP Alert Live will deliver everything you need for your managed security services roadmap for 2026 and beyond. \n  \nRegister with code MSSP25-WiCyS50 HERE for a 50% discount on passes!
URL:https://www.wicys.org/event/wicys-mssp-alert-live-women-in-tech-panel/
LOCATION:MGM National Harbor\, 101 MGM National Ave\, Oxon Hill\, MD\, 20745\, United States
CATEGORIES:WiCyS
ATTACH;FMTTYPE=image/png:https://www.wicys.org/wp-content/uploads/2025/11/Lynn-Dohm-Speaker-MSSP-Alert-Live.png
END:VEVENT
BEGIN:VEVENT
DTSTART;VALUE=DATE:20251208
DTEND;VALUE=DATE:20251211
DTSTAMP:20260426T003239
CREATED:20251106T135916Z
LAST-MODIFIED:20251106T142902Z
UID:10002655-1765152000-1765411199@www.wicys.org
SUMMARY:WiCyS Mid-Atlantic Affiliate | MSSP Alert Live
DESCRIPTION:Join our Mid-Atlantic Affiliate at MSSP Alert Live in National Harbor\, MD\, to connect with WiCyS members. Please stop by our booth to meet our affiliate\, snag some swag\, and learn more! Add to your agenda to see Executive Director Lynn Dohm featured on the Women in Tech Panel: Leading with Vision and Impact on December 10th. \nMSSP Alert Live\, the industry’s most anticipated event for MSSPs\, MSPs\, cybersecurity leaders\, and innovators\, is back and better than ever! Whether you are just getting started offering managed security services\, are an MSP looking to expand your offerings\, or you’re an established MSSP\, MSSP Alert Live will deliver everything you need for your managed security services roadmap for 2026 and beyond. \n  \nRegister with code MSSP25-WiCyS50 HERE for a 50% discount on passes!
URL:https://www.wicys.org/event/wicys-mid-atlantic-affiliate-mssp-alert-live/
LOCATION:MGM National Harbor\, 101 MGM National Ave\, Oxon Hill\, MD\, 20745\, United States
CATEGORIES:WiCyS,WiCyS Affiliate
ATTACH;FMTTYPE=image/jpeg:https://www.wicys.org/wp-content/uploads/2025/11/MSSP-Alert-Live_2025.jpeg
ORGANIZER;CN="WiCyS Mid-Atlantic Affiliate":MAILTO:info@wicysmidatlantic.org
END:VEVENT
BEGIN:VEVENT
DTSTART;VALUE=DATE:20251119
DTEND;VALUE=DATE:20251121
DTSTAMP:20260426T003239
CREATED:20251105T143020Z
LAST-MODIFIED:20251105T143020Z
UID:10002649-1763510400-1763683199@www.wicys.org
SUMMARY:WiCyS Mid-Atlantic Affiliate | Indentiverse Washington DC
DESCRIPTION:Join our Mid-Atlantic Affiliate at Indentiverse\, Washington\, DC\, to connect with WiCyS members. Please stop by our booth to meet our affiliate\, snag some swag\, and learn more! \nDiscover the future of identity at Identiverse\, where industry leaders will share cutting-edge insights on identity-first security\, governance\, and emerging technologies. Check out the speaker lineup and agenda to explore dynamic sessions designed to inspire\, inform\, and connect you with the brightest minds in identity. \n  \nRegister HERE and use code IDV25-WiCyS50 for an exclusive 50% discount!
URL:https://www.wicys.org/event/wicys-mid-atlantic-affiliate-indentiverse-washington-dc/
LOCATION:MGM National Harbor\, 101 MGM National Ave\, Oxon Hill\, MD\, 20745\, United States
ATTACH;FMTTYPE=image/png:https://www.wicys.org/wp-content/uploads/2025/11/50-WiCyS-IDV-DC-1200x628-1.png
ORGANIZER;CN="WiCyS Mid-Atlantic Affiliate":MAILTO:info@wicysmidatlantic.org
END:VEVENT
END:VCALENDAR