BEGIN:VCALENDAR
VERSION:2.0
PRODID:-//WiCyS - Women in Cybersecurity - ECPv6.15.20//NONSGML v1.0//EN
CALSCALE:GREGORIAN
METHOD:PUBLISH
X-ORIGINAL-URL:https://www.wicys.org
X-WR-CALDESC:Events for WiCyS - Women in Cybersecurity
REFRESH-INTERVAL;VALUE=DURATION:PT1H
X-Robots-Tag:noindex
X-PUBLISHED-TTL:PT1H
BEGIN:VTIMEZONE
TZID:UTC
BEGIN:STANDARD
TZOFFSETFROM:+0000
TZOFFSETTO:+0000
TZNAME:UTC
DTSTART:20230101T000000
END:STANDARD
END:VTIMEZONE
BEGIN:VEVENT
DTSTART;TZID=UTC:20240801T180000
DTEND;TZID=UTC:20240801T200000
DTSTAMP:20260423T064802
CREATED:20240724T220343Z
LAST-MODIFIED:20240724T220343Z
UID:10001834-1722535200-1722542400@www.wicys.org
SUMMARY:WiCyS Chicago Affiliate | Empowering Women in Cybersecurity Series
DESCRIPTION:The Women in CyberSecurity (WiCyS) Chicago Affiliate and the Chicago CISO of the Year (CCOTY) Program Committee invite all WiCyS members to the next event in their EMPOWERING WOMEN IN CYBERSECURITY series\, which aims to investigate CISOs’ perspectives on Cybersecurity in the Public Sector. Don’t miss the opportunity to meet WiCyS Executive Lynn Dohm\, who will be attending. \n“Cybersecurity in Public Sector “\, will feature a panel of Chicago area CISOs sharing their point of view on the cybersecurity risks for public sector entities\, how they differ to private sector entities and challenges in minimizing them. \nFeatured panelists include:\n• Bruce Coffing\, CISO\, City of Chicago\n• Leilani Lauger\, CISO\, University of Notre Dame\n• Paul Neff\, CISO\, Wisconsin Department of Public Instruction \nThe event is open exclusively to WiCyS members and their guests – specifically\, WiCyS members are strongly encouraged to register AND to bring a mentor! Our intent for the series is to involve the cybersecurity leaders of the future in Chicago by partnering with allies\, managers\, and mentors to grow together. We encourage CISOs to share this event with WiCyS members on your staff and to make yourself\, your management\, etc. available as attending mentors. \nRegistration starts at 4:30pm. CISO panel discussion will be held from 5-6pm\, followed by dinner and networking. Register HERE
URL:https://www.wicys.org/event/wicys-chicago-affiliate-empowering-women-in-cybersecurity-series/
LOCATION:Motorola Solutions\, 500 W Monroe St Ste 4400\, Chicago\, IL\, 60661\, United States
CATEGORIES:WiCyS Affiliate
ATTACH;FMTTYPE=image/png:https://www.wicys.org/wp-content/uploads/2024/07/WiCyS-Chicago-at-Blue-Team-Con.png
END:VEVENT
END:VCALENDAR