BEGIN:VCALENDAR
VERSION:2.0
PRODID:-//WiCyS - Women in Cybersecurity - ECPv6.15.20//NONSGML v1.0//EN
CALSCALE:GREGORIAN
METHOD:PUBLISH
X-WR-CALNAME:WiCyS - Women in Cybersecurity
X-ORIGINAL-URL:https://www.wicys.org
X-WR-CALDESC:Events for WiCyS - Women in Cybersecurity
REFRESH-INTERVAL;VALUE=DURATION:PT1H
X-Robots-Tag:noindex
X-PUBLISHED-TTL:PT1H
BEGIN:VTIMEZONE
TZID:UTC
BEGIN:STANDARD
TZOFFSETFROM:+0000
TZOFFSETTO:+0000
TZNAME:UTC
DTSTART:20230101T000000
END:STANDARD
END:VTIMEZONE
BEGIN:VEVENT
DTSTART;VALUE=DATE:20250930
DTEND;VALUE=DATE:20251002
DTSTAMP:20260421T201929
CREATED:20250826T162836Z
LAST-MODIFIED:20250826T163033Z
UID:10002530-1759190400-1759363199@www.wicys.org
SUMMARY:WiCyS UKI Affiliate | International Cyber Expo 2025
DESCRIPTION:WiCyS UK&I is delighted to announce participation at the International Cyber Expo in London. Across two days\, WiCyS UKI will be connecting with the global cybersecurity community\, showcasing the work of WiCyS\, and highlighting opportunities for women and underrepresented groups in cyber. \nAs part of the programme\, WiCyS UK&I will also be hosting an important panel discussion: \nThe Gendered Cost of Going Back: The Impact of Return to Office on Women and Carers in Cybersecurity\n1 October 2025 \nThis thought-provoking session will explore how return-to-office mandates are affecting women and carers in our industry\, shedding light on workplace equity\, flexibility\, and the future of inclusion in cybersecurity. \nJoin us at our stand (L80) and at the panel to engage in conversations that matter\, expand your network. Visit HERE for more info and to register!
URL:https://www.wicys.org/event/wicys-uki-affiliate-international-cyber-expo-2025/
LOCATION:Olympia London – National Hall\, Hammersmith Rd\, Kensington\, London\, W14 8UX\, United Kingdom
CATEGORIES:WiCyS Affiliate
ATTACH;FMTTYPE=image/png:https://www.wicys.org/wp-content/uploads/2025/08/398321b0-4c56-11f0-a709-000000000000.png
ORGANIZER;CN="WiCyS UKI Affiliate":MAILTO:jennie.cox@gmail.com
END:VEVENT
BEGIN:VEVENT
DTSTART;VALUE=DATE:20250205
DTEND;VALUE=DATE:20250207
DTSTAMP:20260421T201929
CREATED:20250128T171932Z
LAST-MODIFIED:20250128T171932Z
UID:10002023-1738713600-1738886399@www.wicys.org
SUMMARY:WiCyS UKI Affiliate | Cyber Security & Cloud Expo
DESCRIPTION:Join our UKI Affiliate at the Cyber Security & Cloud Expo to connect with WiCyS members. Please stop by our booth to meet our affiliate\, snag some swag\, and learn more! \nCyber Security & Cloud Expo is the leading event covering Zero-Day Vigilance\, Threat Detection\, Global Cyber Conflicts\, Generative AI\, Quantum Computing\, Risk Management\, Cloud Transformation\, Hybrid Cloud strategies\, DevSecOps Integration and AI & ML in Infrastructure. \n  \nMore details and to register HERE
URL:https://www.wicys.org/event/wicys-uki-affiliate-cyber-security-cloud-expo/
LOCATION:Olympia London – National Hall\, Hammersmith Rd\, Kensington\, London\, W14 8UX\, United Kingdom
CATEGORIES:WiCyS Affiliate
ATTACH;FMTTYPE=image/png:https://www.wicys.org/wp-content/uploads/2025/01/WiCyS-UKI-at-Cyber-Security-_-Cloud-Expo-Global.png
ORGANIZER;CN="WiCyS UKI Affiliate":MAILTO:jennie.cox@gmail.com
END:VEVENT
BEGIN:VEVENT
DTSTART;VALUE=DATE:20240924
DTEND;VALUE=DATE:20240926
DTSTAMP:20260421T201929
CREATED:20240709T150702Z
LAST-MODIFIED:20240806T152343Z
UID:10001822-1727136000-1727308799@www.wicys.org
SUMMARY:WiCyS UKI Affiliate | International Cyber Expo 2024
DESCRIPTION:We’re thrilled to share that Women in CyberSecurity (WiCyS) UK & Ireland are proud to be official Media Partners for the 2024 International Cyber Expo\, and we’ll be there in person! \nJoin us at Olympia\, London\, on Tuesday\, 24th\, and Wednesday\, 25th September\, for this year’s International Cyber Expo. \nThis event will feature a stellar line-up of global cybersecurity experts\, offering vital insights and the latest industry knowledge that will impact cyber professionals worldwide. See the full agenda on their website below! \nSwing by our booth at stand R40 to meet the WiCyS UKI team\, enjoy engaging conversations\, and pick up some exclusive freebies!🥳 \nContact wicysuk@wicys.org for more information or register for a FREE Visitor Pass HERE
URL:https://www.wicys.org/event/wicys-uki-affiliate-international-cyber-expo-2024/
LOCATION:Olympia London – National Hall\, Hammersmith Rd\, Kensington\, London\, W14 8UX\, United Kingdom
CATEGORIES:WiCyS Affiliate
ATTACH;FMTTYPE=image/png:https://www.wicys.org/wp-content/uploads/2024/07/WiCyS-UKI-at-International-Cyber-Expo.png
ORGANIZER;CN="WiCyS UKI Affiliate":MAILTO:jennie.cox@gmail.com
END:VEVENT
END:VCALENDAR