BEGIN:VCALENDAR
VERSION:2.0
PRODID:-//WiCyS - Women in Cybersecurity - ECPv6.15.20//NONSGML v1.0//EN
CALSCALE:GREGORIAN
METHOD:PUBLISH
X-ORIGINAL-URL:https://www.wicys.org
X-WR-CALDESC:Events for WiCyS - Women in Cybersecurity
REFRESH-INTERVAL;VALUE=DURATION:PT1H
X-Robots-Tag:noindex
X-PUBLISHED-TTL:PT1H
BEGIN:VTIMEZONE
TZID:UTC
BEGIN:STANDARD
TZOFFSETFROM:+0000
TZOFFSETTO:+0000
TZNAME:UTC
DTSTART:20230101T000000
END:STANDARD
END:VTIMEZONE
BEGIN:VEVENT
DTSTART;TZID=UTC:20240604T113000
DTEND;TZID=UTC:20240604T121500
DTSTAMP:20260426T003219
CREATED:20240424T133611Z
LAST-MODIFIED:20240424T133611Z
UID:10001754-1717500600-1717503300@www.wicys.org
SUMMARY:Lynn Dohm Presenting with Simon Petrella | NICE Conference
DESCRIPTION:WiCyS Executive Director\, Lynn Dohm will present along with Simon Petrella\, President N2K Networks on June 4th at NICE Conference & Expo. Their presentation titled Roadmap to Advancement through Skill Gap Analysis will provide knowledge on how to tackle critical workforce shortage in cybersecurity. \nFast tracking cybersecurity education and career advancement is known for its challenging navigation. Amid a critical workforce shortage\, Women in CyberSecurity (WiCyS) partnered with N2K to provide their members a more direct and informed path to career success and the subsequent comprehensive Cyber Talent Study that leverages member skills data. By utilizing N2K’s specialized assessment tool\, WiCyS members quickly gained clarity on their skill levels and recommendations for professional development to achieve their ultimate career goals. WiCyS also gained insight into skills gaps that could be addressed through large-scale programming and will inform creation of programming\, events\, and resource development. \nDon’t miss this talk! Register for NICE HERE
URL:https://www.wicys.org/event/lynn-dohm-presenting-with-simon-petrella-nice-conference/
LOCATION:Sheraton Dallas\, 400 North Olive St\, Dallas\, TX\, United States
CATEGORIES:WiCyS
ATTACH;FMTTYPE=image/png:https://www.wicys.org/wp-content/uploads/2024/04/Lynn-speaking-at-NICE-Conference.png
END:VEVENT
BEGIN:VEVENT
DTSTART;VALUE=DATE:20240603
DTEND;VALUE=DATE:20240606
DTSTAMP:20260426T003219
CREATED:20240423T141454Z
LAST-MODIFIED:20240423T141454Z
UID:10001753-1717372800-1717631999@www.wicys.org
SUMMARY:WiCyS | NICE Conference & Expo
DESCRIPTION:Join WiCyS at NICE Conference & Expo 2024 to connect with WiCyS members. Stop by our booth to meet our team\, snag some swag\, and learn more about WiCyS. Do not miss WiCyS Executive Director\, Lynn Dohm along with President of N2K Simon Petrella for their session Roadmap to Advancement through Skill Gap Analysis on June 4th\, 11:30am – 12:15pm. \nThe NICE Conference is the annual convening of community members and thought leaders from education\, government\, industry\, and non-profits to explore ways of developing a skilled cybersecurity workforce ready to meet the challenges of the future. This event provides an opportunity to share best practices from around the world and across sectors in order to build the workforce we need to confront cybersecurity risks today and in years to come. \nNICE Conference & Expo: Strengthening Ecosystems. The conference will offer a half-day of targeted workshops followed by two full days of insights from experienced thought leaders from education\, government\, industry\, and non-profits who are addressing cybersecurity’s education\, training\, and workforce needs. \nRegister for this event HERE
URL:https://www.wicys.org/event/wicys-nice-conference-expo/
LOCATION:Sheraton Dallas\, 400 North Olive St\, Dallas\, TX\, United States
CATEGORIES:WiCyS
ATTACH;FMTTYPE=image/png:https://www.wicys.org/wp-content/uploads/2024/04/WiCyS-at-NICE_-Conference.png
END:VEVENT
END:VCALENDAR