BEGIN:VCALENDAR
VERSION:2.0
PRODID:-//WiCyS - Women in Cybersecurity - ECPv6.15.20//NONSGML v1.0//EN
CALSCALE:GREGORIAN
METHOD:PUBLISH
X-ORIGINAL-URL:https://www.wicys.org
X-WR-CALDESC:Events for WiCyS - Women in Cybersecurity
REFRESH-INTERVAL;VALUE=DURATION:PT1H
X-Robots-Tag:noindex
X-PUBLISHED-TTL:PT1H
BEGIN:VTIMEZONE
TZID:UTC
BEGIN:STANDARD
TZOFFSETFROM:+0000
TZOFFSETTO:+0000
TZNAME:UTC
DTSTART:20240101T000000
END:STANDARD
END:VTIMEZONE
BEGIN:VEVENT
DTSTART;TZID=UTC:20251008T090000
DTEND;TZID=UTC:20251010T170000
DTSTAMP:20260423T160133
CREATED:20251001T165001Z
LAST-MODIFIED:20251001T165001Z
UID:10002586-1759914000-1760115600@www.wicys.org
SUMMARY:WiCyS West Africa Affiliate | Cyber Champions TTX
DESCRIPTION:It’s Here: The Cyber Champions TTX 2025! WiCyS West Africa Affiliate is excited to announce the upcoming Cyber Champions Tabletop Exercise (TTX)\, a 3-day intensive workshop designed to sharpen our resilience against today’s evolving cyber threats. \nTheme: Enhancing Cyber Resilience through Practical Simulations & AI-Driven Threat Analysis \nThis unique TTX will bring together cybersecurity professionals to: \n\nRun through practical simulations of real-world cyber incidents\nExplore AI-driven approaches to detect\, analyze\, and mitigate threats\nStrengthen collaboration between key cyber stakeholders\n\n  \nWe are honored to host this under the UK Government Foreign\, Commonwealth and Development Office Africa Cyber Project II\, with support from Cyber Security Authority \, Ghana\, TAG International and Cyber Intelligence and Security Aid Bureau \nThis workshop is a powerful step toward equipping our cyber champions to stand ready\, respond smartly\, and recover quickly. West Africa is rising in cyber defense and the Cyber Champions TTX is proof that together\, we can build stronger\, safer\, and smarter digital communities. More information HERE
URL:https://www.wicys.org/event/wicys-west-africa-affiliate-cyber-champions-ttx/
LOCATION:The African Regent Hotel\, Accra\, Ghana
CATEGORIES:WiCyS Affiliate
ATTACH;FMTTYPE=image/jpeg:https://www.wicys.org/wp-content/uploads/2025/09/IMG_8285-e1759237535136.jpeg
ORGANIZER;CN="WiCyS West Africa":MAILTO:wicyswestafrica@wicys.org
END:VEVENT
END:VCALENDAR