BEGIN:VCALENDAR
VERSION:2.0
PRODID:-//WiCyS - Women in Cybersecurity - ECPv6.15.20//NONSGML v1.0//EN
CALSCALE:GREGORIAN
METHOD:PUBLISH
X-ORIGINAL-URL:https://www.wicys.org
X-WR-CALDESC:Events for WiCyS - Women in Cybersecurity
REFRESH-INTERVAL;VALUE=DURATION:PT1H
X-Robots-Tag:noindex
X-PUBLISHED-TTL:PT1H
BEGIN:VTIMEZONE
TZID:UTC
BEGIN:STANDARD
TZOFFSETFROM:+0000
TZOFFSETTO:+0000
TZNAME:UTC
DTSTART:20230101T000000
END:STANDARD
END:VTIMEZONE
BEGIN:VEVENT
DTSTART;TZID=UTC:20240312T173000
DTEND;TZID=UTC:20240312T193000
DTSTAMP:20260420T111512
CREATED:20240222T141324Z
LAST-MODIFIED:20240222T141324Z
UID:10001673-1710264600-1710271800@www.wicys.org
SUMMARY:WiCyS Northeast Ohio Affiliate | Networking Happy Hour
DESCRIPTION:Join cyber pros from across Northeast Ohio for networking\, appetizers\, and beverages at the Wild Eagle Saloon just off I-77 in Broadview Heights on March 12. Drop in for a few minutes or stay for a couple of hours to meet the new leadership team and mingle with your fellow professionals. The first 20 registrants get a free drink ticket! Thanks to our sponsor\, Orca Security\, for their support. \nRSVP for this FREE event HERE
URL:https://www.wicys.org/event/wicys-northeast-ohio-affiliate-networking-happy-hour/
LOCATION:Wild Eagle Saloon – Broadview Heights\, 5001 East Royalton Rd\, Broadview Heights\, OH\, 44147\, United States
CATEGORIES:WiCyS Affiliate
ATTACH;FMTTYPE=image/jpeg:https://www.wicys.org/wp-content/uploads/2024/02/WiCys-Happy-Hour.jpg
ORGANIZER;CN="WiCyS NE Ohio Affiliate":MAILTO:WiCySNEOhio@wicys.org
END:VEVENT
END:VCALENDAR