BEGIN:VCALENDAR
VERSION:2.0
PRODID:-//WiCyS - Women in Cybersecurity - ECPv6.15.20//NONSGML v1.0//EN
CALSCALE:GREGORIAN
METHOD:PUBLISH
X-ORIGINAL-URL:https://www.wicys.org
X-WR-CALDESC:Events for WiCyS - Women in Cybersecurity
REFRESH-INTERVAL;VALUE=DURATION:PT1H
X-Robots-Tag:noindex
X-PUBLISHED-TTL:PT1H
BEGIN:VTIMEZONE
TZID:UTC
BEGIN:STANDARD
TZOFFSETFROM:+0000
TZOFFSETTO:+0000
TZNAME:UTC
DTSTART:20230101T000000
END:STANDARD
END:VTIMEZONE
BEGIN:VTIMEZONE
TZID:America/Denver
BEGIN:DAYLIGHT
TZOFFSETFROM:-0700
TZOFFSETTO:-0600
TZNAME:MDT
DTSTART:20220313T090000
END:DAYLIGHT
BEGIN:STANDARD
TZOFFSETFROM:-0600
TZOFFSETTO:-0700
TZNAME:MST
DTSTART:20221106T080000
END:STANDARD
BEGIN:DAYLIGHT
TZOFFSETFROM:-0700
TZOFFSETTO:-0600
TZNAME:MDT
DTSTART:20230312T090000
END:DAYLIGHT
BEGIN:STANDARD
TZOFFSETFROM:-0600
TZOFFSETTO:-0700
TZNAME:MST
DTSTART:20231105T080000
END:STANDARD
BEGIN:DAYLIGHT
TZOFFSETFROM:-0700
TZOFFSETTO:-0600
TZNAME:MDT
DTSTART:20240310T090000
END:DAYLIGHT
BEGIN:STANDARD
TZOFFSETFROM:-0600
TZOFFSETTO:-0700
TZNAME:MST
DTSTART:20241103T080000
END:STANDARD
END:VTIMEZONE
BEGIN:VTIMEZONE
TZID:America/Los_Angeles
BEGIN:DAYLIGHT
TZOFFSETFROM:-0800
TZOFFSETTO:-0700
TZNAME:PDT
DTSTART:20220313T100000
END:DAYLIGHT
BEGIN:STANDARD
TZOFFSETFROM:-0700
TZOFFSETTO:-0800
TZNAME:PST
DTSTART:20221106T090000
END:STANDARD
BEGIN:DAYLIGHT
TZOFFSETFROM:-0800
TZOFFSETTO:-0700
TZNAME:PDT
DTSTART:20230312T100000
END:DAYLIGHT
BEGIN:STANDARD
TZOFFSETFROM:-0700
TZOFFSETTO:-0800
TZNAME:PST
DTSTART:20231105T090000
END:STANDARD
BEGIN:DAYLIGHT
TZOFFSETFROM:-0800
TZOFFSETTO:-0700
TZNAME:PDT
DTSTART:20240310T100000
END:DAYLIGHT
BEGIN:STANDARD
TZOFFSETFROM:-0700
TZOFFSETTO:-0800
TZNAME:PST
DTSTART:20241103T090000
END:STANDARD
END:VTIMEZONE
BEGIN:VTIMEZONE
TZID:America/Phoenix
BEGIN:STANDARD
TZOFFSETFROM:-0700
TZOFFSETTO:-0700
TZNAME:MST
DTSTART:20220101T000000
END:STANDARD
END:VTIMEZONE
BEGIN:VTIMEZONE
TZID:America/New_York
BEGIN:DAYLIGHT
TZOFFSETFROM:-0500
TZOFFSETTO:-0400
TZNAME:EDT
DTSTART:20220313T070000
END:DAYLIGHT
BEGIN:STANDARD
TZOFFSETFROM:-0400
TZOFFSETTO:-0500
TZNAME:EST
DTSTART:20221106T060000
END:STANDARD
BEGIN:DAYLIGHT
TZOFFSETFROM:-0500
TZOFFSETTO:-0400
TZNAME:EDT
DTSTART:20230312T070000
END:DAYLIGHT
BEGIN:STANDARD
TZOFFSETFROM:-0400
TZOFFSETTO:-0500
TZNAME:EST
DTSTART:20231105T060000
END:STANDARD
BEGIN:DAYLIGHT
TZOFFSETFROM:-0500
TZOFFSETTO:-0400
TZNAME:EDT
DTSTART:20240310T070000
END:DAYLIGHT
BEGIN:STANDARD
TZOFFSETFROM:-0400
TZOFFSETTO:-0500
TZNAME:EST
DTSTART:20241103T060000
END:STANDARD
END:VTIMEZONE
BEGIN:VEVENT
DTSTART;TZID=UTC:20250424T130000
DTEND;TZID=UTC:20250424T140000
DTSTAMP:20260420T223645
CREATED:20250306T210122Z
LAST-MODIFIED:20250306T210122Z
UID:10002075-1745499600-1745503200@www.wicys.org
SUMMARY:WiCyS April Book Club
DESCRIPTION:Atlas of AI: Power\, Politics\, and the Planetary Costs of Artificial Intelligence\nby Kate Crawford \nWhat happens when artificial intelligence saturates political life and depletes the planet? How is AI shaping our understanding of ourselves and our societies? Drawing on more than a decade of research\, award‑winning scholar Kate Crawford reveals how AI is a technology of extraction: from the minerals drawn from the earth to the labor pulled from low-wage information workers to the data taken from every action and expression. \nCrawford reveals how this planetary network is fueling a shift toward undemocratic governance and increased inequity. Rather than taking a narrow focus on code and algorithms\, Crawford offers us a material and political perspective on what it takes to make AI and how it centralizes power. This is an urgent account of what is at stake as technology companies use artificial intelligence to reshape the world. \nRegister HERE
URL:https://www.wicys.org/event/wicys-april-book-club-2/
LOCATION:Zoom\, IN
CATEGORIES:Webinar,WiCyS,WiCyS Program
ATTACH;FMTTYPE=image/png:https://www.wicys.org/wp-content/uploads/2025/03/WiCyS-April-2025-Book-Club-1.png
END:VEVENT
BEGIN:VEVENT
DTSTART;TZID=UTC:20250225T193000
DTEND;TZID=UTC:20250225T210000
DTSTAMP:20260420T223645
CREATED:20250226T185630Z
LAST-MODIFIED:20250226T185630Z
UID:10002060-1740511800-1740517200@www.wicys.org
SUMMARY:WiCyS Ontario Affiliate | CAREER HACKS FROM THE BOARD: HOW TO ADVANCE IN CYBERSECURITY
DESCRIPTION:Looking to break into cybersecurity\, level up your career\, or switch into a specialized role? Join WiCyS Ontario Affiliate for a real talk panel discussion with women leaders in cybersecurity who have been where you are and will share practical career tips\, personal experiences\, and strategies for success. \nWhat we’ll cover:\n💡 How to get started in cybersecurity (even if you’re coming from another field)\n📈 Ways to build your skills\, grow your network\, and step into leadership\n🔄 How to pivot into specialized roles\n💪 Overcoming challenges and staying resilient in this fast-paced industry \nWhether you’re just starting out or looking for your next career move\, this is your chance to hear from women who’ve done it—and ask them all your burning questions. Don’t miss out!
URL:https://www.wicys.org/event/wicys-ontario-affiliate-career-hacks-from-the-board-how-to-advance-in-cybersecurity/
LOCATION:Zoom\, IN
CATEGORIES:Webinar,WiCyS Affiliate
ATTACH;FMTTYPE=image/png:https://www.wicys.org/wp-content/uploads/2025/02/WiCyS-Ontario-Feb-2025-Panel.png
END:VEVENT
BEGIN:VEVENT
DTSTART;TZID=UTC:20250213T130000
DTEND;TZID=UTC:20250213T140000
DTSTAMP:20260420T223645
CREATED:20250106T212018Z
LAST-MODIFIED:20250106T212018Z
UID:10001979-1739451600-1739455200@www.wicys.org
SUMMARY:WiCyS February Book Club
DESCRIPTION:Grit: The Power of Passion and Perseverance by Angela Duckworth \nThe daughter of a scientist who frequently noted her lack of “genius\,” Angela Duckworth is now a celebrated researcher and professor. It was her early eye-opening stints in teaching\, business consulting\, and neuroscience that led to her hypothesis about what really drives success: not genius\, but a unique combination of passion and long-term perseverance. \nIn Grit\, she takes us into the field to visit cadets struggling through their first days at West Point\, teachers working in some of the toughest schools\, and young finalists in the National Spelling Bee. She also mines fascinating insights from history and shows what can be gleaned from modern experiments in peak performance. Finally\, she shares what she’s learned from interviewing dozens of high achievers—from JP Morgan CEO Jamie Dimon to New Yorker cartoon editor Bob Mankoff to Seattle Seahawks Coach Pete Carroll. \n“Duckworth’s ideas about the cultivation of tenacity have clearly changed some lives for the better” (The New York Times Book Review). Among Grit’s most valuable insights: any effort you make ultimately counts twice toward your goal; grit can be learned\, regardless of IQ or circumstances; when it comes to child-rearing\, neither a warm embrace nor high standards will work by themselves; how to trigger lifelong interest; the magic of the Hard Thing Rule; and so much more. Winningly personal\, insightful\, and even life-changing\, Grit is a book about what goes through your head when you fall down\, and how that—not talent or luck—makes all the difference. This is “a fascinating tour of the psychological research on success” (The Wall Street Journal). \nRegister HERE
URL:https://www.wicys.org/event/wicys-february-book-club-2/
LOCATION:Zoom\, IN
CATEGORIES:Webinar,WiCyS
ATTACH;FMTTYPE=image/png:https://www.wicys.org/wp-content/uploads/2024/12/WiCyS-February-2025-Book-Club.png
END:VEVENT
BEGIN:VEVENT
DTSTART;TZID=UTC:20241205T130000
DTEND;TZID=UTC:20241205T140000
DTSTAMP:20260420T223645
CREATED:20241101T194543Z
LAST-MODIFIED:20241101T194706Z
UID:10001947-1733403600-1733407200@www.wicys.org
SUMMARY:WiCyS December Book Club
DESCRIPTION:Your Face Belongs to Us: A Secretive Startup’s Quest to End Privacy as We Know It by Kashmir Hill \nNew York Times tech reporter Kashmir Hill was skeptical when she got a tip about a mysterious app called Clearview AI that claimed it could\, with 99 percent accuracy\, identify anyone based on just one snapshot of their face. The app could supposedly scan a face and\, in just seconds\, surface every detail of a person’s online life: their name\, social media profiles\, friends and family members\, home address\, and photos that they might not have even known existed. If it was everything it claimed to be\, it would be the ultimate surveillance tool\, and it would open the door to everything from stalking to totalitarian state control. Could it be true? \nIn this riveting account\, Hill tracks the improbable rise of Clearview AI\, helmed by Hoan Ton-That\, an Australian computer engineer\, and Richard Schwartz\, a former Rudy Giuliani advisor\, and its astounding collection of billions of faces from the internet. The company was boosted by a cast of controversial characters\, including conservative provocateur Charles C. Johnson and billionaire Donald Trump backer Peter Thiel—who all seemed eager to release this society-altering technology on the public. Google and Facebook decided that a tool to identify strangers was too radical to release\, but Clearview forged ahead\, sharing the app with private investors\, pitching it to businesses\, and offering it to thousands of law enforcement agencies around the world. \nFacial recognition technology has been quietly growing more powerful for decades. This technology has already been used in wrongful arrests in the United States. Unregulated\, it could expand the reach of policing\, as it has in China and Russia\, to a terrifying\, dystopian level.\n\nYour Face Belongs to Us is a gripping true story about the rise of a technological superpower and an urgent warning that\, in the absence of vigilance and government regulation\, Clearview AI is one of many new technologies that challenge what Supreme Court Justice Louis Brandeis once called “the right to be let alone.” \nRegister HERE
URL:https://www.wicys.org/event/wicys-december-book-club/
LOCATION:Zoom\, IN
CATEGORIES:Webinar,WiCyS
ATTACH;FMTTYPE=image/png:https://www.wicys.org/wp-content/uploads/2024/11/WiCyS-December-2024-Book-Club.png
END:VEVENT
BEGIN:VEVENT
DTSTART;TZID=UTC:20241017T130000
DTEND;TZID=UTC:20241017T140000
DTSTAMP:20260420T223645
CREATED:20240826T193132Z
LAST-MODIFIED:20240826T193132Z
UID:10001867-1729170000-1729173600@www.wicys.org
SUMMARY:WiCyS October Book Club
DESCRIPTION:Weapons of Math Destruction: How Big Data Increases Inequality and Threatens Democracy by Cathy O’Neil \nWe live in the age of the algorithm. Increasingly\, the decisions that affect our lives—where we go to school\, whether we can get a job or a loan\, how much we pay for health insurance—are being made not by humans\, but by machines. In theory\, this should lead to greater fairness: Everyone is judged according to the same rules. \nBut as mathematician and data scientist Cathy O’Neil reveals\, the mathematical models being used today are unregulated and uncontestable\, even when they’re wrong. Most troubling\, they reinforce discrimination—propping up the lucky\, punishing the downtrodden\, and undermining our democracy in the process. Welcome to the dark side of Big Data. \nRegister HERE
URL:https://www.wicys.org/event/wicys-october-book-club/
LOCATION:Zoom\, IN
CATEGORIES:Webinar,WiCyS
ATTACH;FMTTYPE=image/png:https://www.wicys.org/wp-content/uploads/2024/08/WiCyS-October-2024-Book-Club.png
END:VEVENT
BEGIN:VEVENT
DTSTART;TZID=UTC:20240815T130000
DTEND;TZID=UTC:20240815T140000
DTSTAMP:20260420T223645
CREATED:20240627T145447Z
LAST-MODIFIED:20240627T150956Z
UID:10001820-1723726800-1723730400@www.wicys.org
SUMMARY:WiCyS August Book Club
DESCRIPTION:An insightful exploration of what social media\, AI\, robot technology\, and the digital world are doing to our relationships with each other and with ourselves. \nThere’s no doubt that technology has made it easier to communicate. It’s also easier to shut someone out when we are confronted with online discourse. Why bother to understand strangers―or even acquaintances―when you can troll them\, block them\, or just click “Unfriend” and never look back? However briefly satisfying that might be\, it’s also potentially eroding one of our most human traits: empathy. \nSo what does the future look like when something so vital to a peaceful\, healthy\, and productive society is fading away? The cautionary\, yet hopeful\, answer is in this champion for an endangered emotion. \nIn The Future of Feeling\, Kaitlin Ugolik Phillips shares her own personal stories as well as those of doctors\, entrepreneurs\, teachers\, journalists\, and scientists about moving innovation and technology forward without succumbing to isolation. This book is for anyone interested in how our brains work\, how they’re subtly being rewired to work differently\, and what that ultimately means for us as humans. \nRegister HERE
URL:https://www.wicys.org/event/wicys-august-book-club/
LOCATION:Zoom\, IN
CATEGORIES:Webinar,WiCyS
ATTACH;FMTTYPE=image/png:https://www.wicys.org/wp-content/uploads/2024/06/WiCyS-August-2024-Book-Club-1.png
END:VEVENT
BEGIN:VEVENT
DTSTART;TZID=America/Denver:20230823T120000
DTEND;TZID=America/Denver:20230823T130000
DTSTAMP:20260420T223645
CREATED:20230801T141154Z
LAST-MODIFIED:20230823T183642Z
UID:10001293-1692792000-1692795600@www.wicys.org
SUMMARY:Phoenix AZ Affiliate | Understanding the Software Supply Chain with Reliable Energy Analytics
DESCRIPTION:Richard “Dick” Brooks will discuss Supply Chain Cybersecurity and Risk Management including REA’s SAG-PM Cybersecurity Supply Chain Risk management tool\, the NIOST cybersecurity Framework\, software verification\, and more. Come learn about one of the hottest topics in software security right now.
URL:https://www.wicys.org/event/understanding-the-software-supply-chain-with-reliable-energy-analytics/
LOCATION:Zoom\, IN
CATEGORIES:WiCyS Affiliate
ATTACH;FMTTYPE=image/png:https://www.wicys.org/wp-content/uploads/2022/10/WiCyS-Phoenix-Affiliate-Logo-on-Shield.png
ORGANIZER;CN="WiCyS - Phoenix AZ Affiliate":MAILTO:wicysphoenix@wicys.org
END:VEVENT
BEGIN:VEVENT
DTSTART;TZID=America/Los_Angeles:20230614T170000
DTEND;TZID=America/Los_Angeles:20230614T180000
DTSTAMP:20260420T223645
CREATED:20230612T192804Z
LAST-MODIFIED:20230612T193049Z
UID:10001258-1686762000-1686765600@www.wicys.org
SUMMARY:WiCyS Silicon Valley Affiliate | Forecasting Data Breaches with Thomas Lee\, PhD
DESCRIPTION:Join WiCyS Silicon Valley as we host Thomas Lee\, PhD\, to discuss the role of certifications and staffing in forecasting data breaches on Wednesday\, June 14th at 5:00 – 6:00 pm PST! 🔒 \nData breaches are not random incidents. In an upcoming session\, Dr. Thomas Lee\, CEO of VivoSecurity\, will shed light on an often overlooked aspect of data breach prediction: insufficient staffing. Building upon his work in forecasting fraud among business customers\, Dr. Lee discovered that audit staff\, not just IT staff\, play a crucial role in preventing data breaches. \nDuring this session\, you’ll gain insights into accurately forecasting cybersecurity data breaches based on number of employees and their specific certifications related to cybersecurity. Dr. Lee will showcase how this approach can help organizations establish risk appetite goals in terms of expected breach frequency\, enabling them to right-size their cybersecurity teams accordingly. \nCPE credit:\nYou can earn 1 CPE credit by attending this webinar. If you want to claim this CPE credit towards the CISA\, you’ll need to send a request to our Board asking for evidence of your attendance. \nAbout the speaker:\nThomas Lee\, PhD is an esteemed expert in the field of cybersecurity and the CEO of VivoSecurity. His Silicon Valley-based company leverages data collection\, regression modeling\, and AI to bring predictability to the seemingly random nature of data breaches. With extensive experience in developing models for forecasting fraud\, PII data breaches\, lawsuits and costs associated with breaches\, and shareholder lawsuits for public companies\, Dr. Lee is a leading authority in the cybersecurity landscape. \nDon’t miss this opportunity to learn from Dr. Thomas Lee\, and enhance your organization’s approach to data breach prevention! 💥 \nRegister now for the event HERE.
URL:https://www.wicys.org/event/wicys-silicon-valley-affiliate-forecasting-data-breaches-with-thomas-lee-phd/
LOCATION:Zoom\, IN
CATEGORIES:Webinar
ATTACH;FMTTYPE=image/png:https://www.wicys.org/wp-content/uploads/2023/06/WiCyS-Silicon-Valley-Logo-on-Shield.png
ORGANIZER;CN="WiCyS Silicon Valley":MAILTO:WiCySSiliconValley@wicys.org
END:VEVENT
BEGIN:VEVENT
DTSTART;TZID=America/Phoenix:20230509T180000
DTEND;TZID=America/Phoenix:20230509T190000
DTSTAMP:20260420T223645
CREATED:20230425T015357Z
LAST-MODIFIED:20230425T015425Z
UID:10001220-1683655200-1683658800@www.wicys.org
SUMMARY:WiCyS Phoenix Affiliate | The Five Laws of Cyber Security\, Ted Talk
DESCRIPTION:WiCyS Phoenix will be hosting a virtual event to shed light on the five laws of cybersecurity. \nNick Espinosa is an expert in cybersecurity and network infrastructure\, he has consulted with clients ranging from small business owners up to Fortune 100 level companies. Nick has designed\, built\, and implemented multinational networks\, encryption systems\, and multi-tiered infrastructures as well as small business environments. He is passionate about emerging technology and enjoys creating\, breaking\, and fixing test environments. As the creator of the Ted Talk on “The Five Laws of Cyber Security”\, he shares insight on how to make the world a better place. \nThis Ted Talk will be presented and discussed at this virtual presentation. We look forward to learning more about the Five Laws of Cybersecurity\, from Nick Espinosa. The Five Laws of Cybersecurity has now been translated into 9 different languages. Together we’re making the world a much safer place!! \nRegister HERE.
URL:https://www.wicys.org/event/wicys-phoenix-affiliate-the-five-laws-of-cyber-security-ted-talk/
LOCATION:Zoom\, IN
CATEGORIES:Webinar
ATTACH;FMTTYPE=image/png:https://www.wicys.org/wp-content/uploads/2022/11/WiCyS-Phoenix-Affiliate-Logo-on-Shield.png
END:VEVENT
BEGIN:VEVENT
DTSTART;TZID=America/New_York:20230407T140000
DTEND;TZID=America/New_York:20230407T150000
DTSTAMP:20260420T223645
CREATED:20230406T180221Z
LAST-MODIFIED:20230406T180254Z
UID:10001242-1680876000-1680879600@www.wicys.org
SUMMARY:Privacy\, Law & Policy Affiliate | Protecting Yourself from Digital Stalking
DESCRIPTION:Have you ever felt like someone knew where you were without communicating it to them\, or that information is being used against you? Then join us for this discussion! We will explore the use of technology in stalking. From the internet to apps\, how is technology being used to suppress and impact women and LGBTQIA+ populations?
URL:https://www.wicys.org/event/privacy-law-policy-affiliate-protecting-yourself-from-digital-stalking/
LOCATION:Zoom\, IN
CATEGORIES:Webinar
ATTACH;FMTTYPE=image/png:https://www.wicys.org/wp-content/uploads/2023/03/WiCyS-Privacy-Law-Affiliate-Logo-on-Shield.png
ORGANIZER;CN="WiCyS - Privacy%2C Law &amp%3B Policy Affiliate":MAILTO:WiCySLaw-PolicyAffiliate@wicys.org
END:VEVENT
BEGIN:VEVENT
DTSTART;TZID=America/New_York:20230215T190000
DTEND;TZID=America/New_York:20230215T200000
DTSTAMP:20260420T223645
CREATED:20230213T192317Z
LAST-MODIFIED:20230213T192317Z
UID:10000986-1676487600-1676491200@www.wicys.org
SUMMARY:WiCyS Neurodiversity General Membership Meeting
DESCRIPTION:Join the WiCyS Neurodiversity Affiliate and Founder Tennisha Martin\, Executive Director and Chairwoman of Black Girls Hack in a discussion about Black women in cybersecurity\, the state of the industry\, strategies to find success in your role\, and more! \nRegister HERE.
URL:https://www.wicys.org/event/wicys-neurodiversity-general-membership-meeting/
LOCATION:Zoom\, IN
CATEGORIES:Webinar
ATTACH;FMTTYPE=image/png:https://www.wicys.org/wp-content/uploads/2023/02/WiCyS-Neurodiversity-Affiliate-Logo-on-Shield-Social.png
ORGANIZER;CN="WiCyS Neurodiversity Affiliate":MAILTO:wicysneurodiversity@wicys.org
END:VEVENT
END:VCALENDAR